BEGIN:VCALENDAR
VERSION:2.0
PRODID:-//Calcagni Real Estate - ECPv6.15.18//NONSGML v1.0//EN
CALSCALE:GREGORIAN
METHOD:PUBLISH
X-ORIGINAL-URL:https://www.calcagni.com
X-WR-CALDESC:Events for Calcagni Real Estate
REFRESH-INTERVAL;VALUE=DURATION:PT1H
X-Robots-Tag:noindex
X-PUBLISHED-TTL:PT1H
BEGIN:VTIMEZONE
TZID:America/New_York
BEGIN:DAYLIGHT
TZOFFSETFROM:-0500
TZOFFSETTO:-0400
TZNAME:EDT
DTSTART:20230312T070000
END:DAYLIGHT
BEGIN:STANDARD
TZOFFSETFROM:-0400
TZOFFSETTO:-0500
TZNAME:EST
DTSTART:20231105T060000
END:STANDARD
BEGIN:DAYLIGHT
TZOFFSETFROM:-0500
TZOFFSETTO:-0400
TZNAME:EDT
DTSTART:20240310T070000
END:DAYLIGHT
BEGIN:STANDARD
TZOFFSETFROM:-0400
TZOFFSETTO:-0500
TZNAME:EST
DTSTART:20241103T060000
END:STANDARD
BEGIN:DAYLIGHT
TZOFFSETFROM:-0500
TZOFFSETTO:-0400
TZNAME:EDT
DTSTART:20250309T070000
END:DAYLIGHT
BEGIN:STANDARD
TZOFFSETFROM:-0400
TZOFFSETTO:-0500
TZNAME:EST
DTSTART:20251102T060000
END:STANDARD
END:VTIMEZONE
BEGIN:VEVENT
DTSTART;TZID=America/New_York:20240626T170000
DTEND;TZID=America/New_York:20240626T210000
DTSTAMP:20260422T031338
CREATED:20240312T154155Z
LAST-MODIFIED:20240528T141457Z
UID:10006329-1719421200-1719435600@www.calcagni.com
SUMMARY:2nd Annual Wallingford Wing Fest
DESCRIPTION:To be held at the Wallingford Elk’s Club! Doors open at 5pm and wings will stopped being served at 7:30pm \n\n\n\nTickets are $30 a person. Tickets are available at Wallingford Center Inc. (129 Center St\, Wallingford) and our Wallingford Office (36 North Main St\, Wallingford) and online at https://wallingfordcenterinc.com/wingfest-2023
URL:https://www.calcagni.com/event/2nd-annual-wallingford-wing-fest/
LOCATION:Wallingford Elks Club\, 148 S Main St\, Wallingford\, CT\, 06492\, United States
CATEGORIES:external event
ORGANIZER;CN="Wallingford Center Inc":MAILTO:info@wallingfordcenterinc.com
GEO:41.4517622;-72.8192025
X-APPLE-STRUCTURED-LOCATION;VALUE=URI;X-ADDRESS=Wallingford Elks Club 148 S Main St Wallingford CT 06492 United States;X-APPLE-RADIUS=500;X-TITLE=148 S Main St:geo:-72.8192025,41.4517622
END:VEVENT
END:VCALENDAR