BEGIN:VCALENDAR
VERSION:2.0
PRODID:-//Calcagni Real Estate - ECPv6.15.18//NONSGML v1.0//EN
CALSCALE:GREGORIAN
METHOD:PUBLISH
X-ORIGINAL-URL:https://www.calcagni.com
X-WR-CALDESC:Events for Calcagni Real Estate
REFRESH-INTERVAL;VALUE=DURATION:PT1H
X-Robots-Tag:noindex
X-PUBLISHED-TTL:PT1H
BEGIN:VTIMEZONE
TZID:America/New_York
BEGIN:DAYLIGHT
TZOFFSETFROM:-0500
TZOFFSETTO:-0400
TZNAME:EDT
DTSTART:20220313T070000
END:DAYLIGHT
BEGIN:STANDARD
TZOFFSETFROM:-0400
TZOFFSETTO:-0500
TZNAME:EST
DTSTART:20221106T060000
END:STANDARD
BEGIN:DAYLIGHT
TZOFFSETFROM:-0500
TZOFFSETTO:-0400
TZNAME:EDT
DTSTART:20230312T070000
END:DAYLIGHT
BEGIN:STANDARD
TZOFFSETFROM:-0400
TZOFFSETTO:-0500
TZNAME:EST
DTSTART:20231105T060000
END:STANDARD
BEGIN:DAYLIGHT
TZOFFSETFROM:-0500
TZOFFSETTO:-0400
TZNAME:EDT
DTSTART:20240310T070000
END:DAYLIGHT
BEGIN:STANDARD
TZOFFSETFROM:-0400
TZOFFSETTO:-0500
TZNAME:EST
DTSTART:20241103T060000
END:STANDARD
END:VTIMEZONE
BEGIN:VEVENT
DTSTART;TZID=America/New_York:20231116T150000
DTEND;TZID=America/New_York:20231116T150000
DTSTAMP:20260422T050533
CREATED:20231017T200906Z
LAST-MODIFIED:20231017T200908Z
UID:10006294-1700146800-1700146800@www.calcagni.com
SUMMARY:Lakeside Ribbon Cutting Ceremony
DESCRIPTION:
URL:https://www.calcagni.com/event/lakeside-ribbon-cutting-ceremony/
LOCATION:Lakeside of Cheshire\, 50 Hazel Dr\, Cheshire\, CT\, 06410\, United States
GEO:41.5439355;-72.9550533
X-APPLE-STRUCTURED-LOCATION;VALUE=URI;X-ADDRESS=Lakeside of Cheshire 50 Hazel Dr Cheshire CT 06410 United States;X-APPLE-RADIUS=500;X-TITLE=50 Hazel Dr:geo:-72.9550533,41.5439355
END:VEVENT
END:VCALENDAR