BEGIN:VCALENDAR
VERSION:2.0
PRODID:-//Calcagni Real Estate - ECPv6.15.18//NONSGML v1.0//EN
CALSCALE:GREGORIAN
METHOD:PUBLISH
X-WR-CALNAME:Calcagni Real Estate
X-ORIGINAL-URL:https://www.calcagni.com
X-WR-CALDESC:Events for Calcagni Real Estate
REFRESH-INTERVAL;VALUE=DURATION:PT1H
X-Robots-Tag:noindex
X-PUBLISHED-TTL:PT1H
BEGIN:VTIMEZONE
TZID:America/New_York
BEGIN:DAYLIGHT
TZOFFSETFROM:-0500
TZOFFSETTO:-0400
TZNAME:EDT
DTSTART:20220313T070000
END:DAYLIGHT
BEGIN:STANDARD
TZOFFSETFROM:-0400
TZOFFSETTO:-0500
TZNAME:EST
DTSTART:20221106T060000
END:STANDARD
BEGIN:DAYLIGHT
TZOFFSETFROM:-0500
TZOFFSETTO:-0400
TZNAME:EDT
DTSTART:20230312T070000
END:DAYLIGHT
BEGIN:STANDARD
TZOFFSETFROM:-0400
TZOFFSETTO:-0500
TZNAME:EST
DTSTART:20231105T060000
END:STANDARD
BEGIN:DAYLIGHT
TZOFFSETFROM:-0500
TZOFFSETTO:-0400
TZNAME:EDT
DTSTART:20240310T070000
END:DAYLIGHT
BEGIN:STANDARD
TZOFFSETFROM:-0400
TZOFFSETTO:-0500
TZNAME:EST
DTSTART:20241103T060000
END:STANDARD
BEGIN:DAYLIGHT
TZOFFSETFROM:-0500
TZOFFSETTO:-0400
TZNAME:EDT
DTSTART:20250309T070000
END:DAYLIGHT
BEGIN:STANDARD
TZOFFSETFROM:-0400
TZOFFSETTO:-0500
TZNAME:EST
DTSTART:20251102T060000
END:STANDARD
BEGIN:DAYLIGHT
TZOFFSETFROM:-0500
TZOFFSETTO:-0400
TZNAME:EDT
DTSTART:20260308T070000
END:DAYLIGHT
BEGIN:STANDARD
TZOFFSETFROM:-0400
TZOFFSETTO:-0500
TZNAME:EST
DTSTART:20261101T060000
END:STANDARD
BEGIN:DAYLIGHT
TZOFFSETFROM:-0500
TZOFFSETTO:-0400
TZNAME:EDT
DTSTART:20270314T070000
END:DAYLIGHT
BEGIN:STANDARD
TZOFFSETFROM:-0400
TZOFFSETTO:-0500
TZNAME:EST
DTSTART:20271107T060000
END:STANDARD
END:VTIMEZONE
BEGIN:VEVENT
DTSTART;TZID=America/New_York:20260328T083000
DTEND;TZID=America/New_York:20260328T140000
DTSTAMP:20260421T133848
CREATED:20260303T202339Z
LAST-MODIFIED:20260303T202339Z
UID:10006432-1774686600-1774706400@www.calcagni.com
SUMMARY:Cheshire Home & Garden
DESCRIPTION:March 28th – Cheshire Home & Garden at Cheshire High School 8:30am-2pm
URL:https://www.calcagni.com/event/cheshire-home-garden/
LOCATION:Cheshire High School\, 525 South Main St\, Cheshire\, CT\, 06410\, United States
CATEGORIES:external event
GEO:41.4896882;-72.9083591
X-APPLE-STRUCTURED-LOCATION;VALUE=URI;X-ADDRESS=Cheshire High School 525 South Main St Cheshire CT 06410 United States;X-APPLE-RADIUS=500;X-TITLE=525 South Main St:geo:-72.9083591,41.4896882
END:VEVENT
BEGIN:VEVENT
DTSTART;TZID=America/New_York:20250413T080000
DTEND;TZID=America/New_York:20250413T170000
DTSTAMP:20260421T133848
CREATED:20250116T143529Z
LAST-MODIFIED:20250116T143529Z
UID:10006367-1744531200-1744563600@www.calcagni.com
SUMMARY:Cheshire ION Bank Road Race/5K
DESCRIPTION:
URL:https://www.calcagni.com/event/cheshire-ion-bank-road-race-5k/
LOCATION:Cheshire High School\, 525 South Main St\, Cheshire\, CT\, 06410\, United States
CATEGORIES:external event
ORGANIZER;CN="Ion Bank":MAILTO:jody@jbsports.com
GEO:41.4896882;-72.9083591
X-APPLE-STRUCTURED-LOCATION;VALUE=URI;X-ADDRESS=Cheshire High School 525 South Main St Cheshire CT 06410 United States;X-APPLE-RADIUS=500;X-TITLE=525 South Main St:geo:-72.9083591,41.4896882
END:VEVENT
BEGIN:VEVENT
DTSTART;TZID=America/New_York:20250329T083000
DTEND;TZID=America/New_York:20250329T140000
DTSTAMP:20260421T133848
CREATED:20250122T151100Z
LAST-MODIFIED:20250122T151100Z
UID:10006373-1743237000-1743256800@www.calcagni.com
SUMMARY:Cheshire Home Health & Garden Show
DESCRIPTION:March 29th from 8:30 am – 2:00 pm Cheshire Home Health & Garden Show at the Cheshire High School
URL:https://www.calcagni.com/event/cheshire-home-health-garden-show/
LOCATION:Cheshire High School\, 525 South Main St\, Cheshire\, CT\, 06410\, United States
CATEGORIES:external event
GEO:41.4896882;-72.9083591
X-APPLE-STRUCTURED-LOCATION;VALUE=URI;X-ADDRESS=Cheshire High School 525 South Main St Cheshire CT 06410 United States;X-APPLE-RADIUS=500;X-TITLE=525 South Main St:geo:-72.9083591,41.4896882
END:VEVENT
BEGIN:VEVENT
DTSTART;TZID=America/New_York:20240914T100000
DTEND;TZID=America/New_York:20240914T160000
DTSTAMP:20260421T133848
CREATED:20240312T162429Z
LAST-MODIFIED:20240312T162431Z
UID:10006335-1726308000-1726329600@www.calcagni.com
SUMMARY:Cheshire Fall Festival
DESCRIPTION:
URL:https://www.calcagni.com/event/cheshire-fall-festival-2/
LOCATION:Cheshire High School\, 525 South Main St\, Cheshire\, CT\, 06410\, United States
CATEGORIES:external event
GEO:41.4896882;-72.9083591
X-APPLE-STRUCTURED-LOCATION;VALUE=URI;X-ADDRESS=Cheshire High School 525 South Main St Cheshire CT 06410 United States;X-APPLE-RADIUS=500;X-TITLE=525 South Main St:geo:-72.9083591,41.4896882
END:VEVENT
BEGIN:VEVENT
DTSTART;TZID=America/New_York:20240421T070000
DTEND;TZID=America/New_York:20240421T070000
DTSTAMP:20260421T133848
CREATED:20240115T200507Z
LAST-MODIFIED:20240229T161534Z
UID:10006317-1713682800-1713682800@www.calcagni.com
SUMMARY:Cheshire Road Race
DESCRIPTION:Race begins at Cheshire High School
URL:https://www.calcagni.com/event/cheshire-road-race-2/
LOCATION:Cheshire High School\, 525 South Main St\, Cheshire\, CT\, 06410\, United States
CATEGORIES:external event
ORGANIZER;CN="Ion Bank":MAILTO:jody@jbsports.com
GEO:41.4896882;-72.9083591
X-APPLE-STRUCTURED-LOCATION;VALUE=URI;X-ADDRESS=Cheshire High School 525 South Main St Cheshire CT 06410 United States;X-APPLE-RADIUS=500;X-TITLE=525 South Main St:geo:-72.9083591,41.4896882
END:VEVENT
BEGIN:VEVENT
DTSTART;TZID=America/New_York:20240323T083000
DTEND;TZID=America/New_York:20240323T140000
DTSTAMP:20260421T133848
CREATED:20240229T163021Z
LAST-MODIFIED:20240229T163023Z
UID:10006320-1711182600-1711202400@www.calcagni.com
SUMMARY:Cheshire Home\, Health and Garden Show
DESCRIPTION:
URL:https://www.calcagni.com/event/cheshire-home-health-and-garden-show-2/
LOCATION:Cheshire High School\, 525 South Main St\, Cheshire\, CT\, 06410\, United States
CATEGORIES:external event
GEO:41.4896882;-72.9083591
X-APPLE-STRUCTURED-LOCATION;VALUE=URI;X-ADDRESS=Cheshire High School 525 South Main St Cheshire CT 06410 United States;X-APPLE-RADIUS=500;X-TITLE=525 South Main St:geo:-72.9083591,41.4896882
END:VEVENT
BEGIN:VEVENT
DTSTART;TZID=America/New_York:20230423T070000
DTEND;TZID=America/New_York:20230423T070000
DTSTAMP:20260421T133848
CREATED:20230405T160619Z
LAST-MODIFIED:20230405T160659Z
UID:10002867-1682233200-1682233200@www.calcagni.com
SUMMARY:Cheshire Road Race
DESCRIPTION:The Cheshire Road Race\, hosted by Ion Bank\, is the largest Cheshire community event. The funds raised will be donated to numerous charities\, such as “Abilities Without Boundaries\, Best Buddies CT\, and Cheshire Lions Club”. According to Ion Bank\, since the race began\, “over $1\,000\,000 has been given to these charities\, along with a number of other worthy causes.” \n\n\n\n \n\n\n\n7:00 a.m. Packet pick-up & registration (race day registration will be available)  \n\n\n\n7:00 a.m. Healthy & Active Living Festival \n\n\n\n7:45 a.m.             Kids Fun Runs \n\n\n\n8:30 a.m.             Half Marathon Start  \n\n\n\n8:38 a.m.             5K Start
URL:https://www.calcagni.com/event/cheshire-road-race/
LOCATION:Cheshire High School\, 525 South Main St\, Cheshire\, CT\, 06410\, United States
CATEGORIES:external event
ORGANIZER;CN="Ion Bank":MAILTO:jody@jbsports.com
GEO:41.4896882;-72.9083591
X-APPLE-STRUCTURED-LOCATION;VALUE=URI;X-ADDRESS=Cheshire High School 525 South Main St Cheshire CT 06410 United States;X-APPLE-RADIUS=500;X-TITLE=525 South Main St:geo:-72.9083591,41.4896882
END:VEVENT
BEGIN:VEVENT
DTSTART;TZID=America/New_York:20230325T083000
DTEND;TZID=America/New_York:20230325T140000
DTSTAMP:20260421T133848
CREATED:20230316T142252Z
LAST-MODIFIED:20230316T142328Z
UID:10002866-1679733000-1679752800@www.calcagni.com
SUMMARY:Cheshire Home\, Health and Garden Show
DESCRIPTION:
URL:https://www.calcagni.com/event/cheshire-home-health-and-garden-show/
LOCATION:Cheshire High School\, 525 South Main St\, Cheshire\, CT\, 06410\, United States
CATEGORIES:external event
GEO:41.4896882;-72.9083591
X-APPLE-STRUCTURED-LOCATION;VALUE=URI;X-ADDRESS=Cheshire High School 525 South Main St Cheshire CT 06410 United States;X-APPLE-RADIUS=500;X-TITLE=525 South Main St:geo:-72.9083591,41.4896882
END:VEVENT
END:VCALENDAR