BEGIN:VCALENDAR
VERSION:2.0
PRODID:-//Calcagni Real Estate - ECPv6.15.18//NONSGML v1.0//EN
CALSCALE:GREGORIAN
METHOD:PUBLISH
X-ORIGINAL-URL:https://www.calcagni.com
X-WR-CALDESC:Events for Calcagni Real Estate
REFRESH-INTERVAL;VALUE=DURATION:PT1H
X-Robots-Tag:noindex
X-PUBLISHED-TTL:PT1H
BEGIN:VTIMEZONE
TZID:America/New_York
BEGIN:DAYLIGHT
TZOFFSETFROM:-0500
TZOFFSETTO:-0400
TZNAME:EDT
DTSTART:20220313T070000
END:DAYLIGHT
BEGIN:STANDARD
TZOFFSETFROM:-0400
TZOFFSETTO:-0500
TZNAME:EST
DTSTART:20221106T060000
END:STANDARD
BEGIN:DAYLIGHT
TZOFFSETFROM:-0500
TZOFFSETTO:-0400
TZNAME:EDT
DTSTART:20230312T070000
END:DAYLIGHT
BEGIN:STANDARD
TZOFFSETFROM:-0400
TZOFFSETTO:-0500
TZNAME:EST
DTSTART:20231105T060000
END:STANDARD
BEGIN:DAYLIGHT
TZOFFSETFROM:-0500
TZOFFSETTO:-0400
TZNAME:EDT
DTSTART:20240310T070000
END:DAYLIGHT
BEGIN:STANDARD
TZOFFSETFROM:-0400
TZOFFSETTO:-0500
TZNAME:EST
DTSTART:20241103T060000
END:STANDARD
BEGIN:DAYLIGHT
TZOFFSETFROM:-0500
TZOFFSETTO:-0400
TZNAME:EDT
DTSTART:20250309T070000
END:DAYLIGHT
BEGIN:STANDARD
TZOFFSETFROM:-0400
TZOFFSETTO:-0500
TZNAME:EST
DTSTART:20251102T060000
END:STANDARD
END:VTIMEZONE
BEGIN:VEVENT
DTSTART;TZID=America/New_York:20240125T114500
DTEND;TZID=America/New_York:20240125T130000
DTSTAMP:20260422T065044
CREATED:20231214T193129Z
LAST-MODIFIED:20231214T193131Z
UID:10006304-1706183100-1706187600@www.calcagni.com
SUMMARY:Lunch and Learn with Dave Baker from TD Bank
DESCRIPTION:
URL:https://www.calcagni.com/event/lunch-and-learn-with-dave-baker-from-td-bank/
LOCATION:36 North Main Street Wallingford\, 36 North Main Street\, Wallingford\, CT\, 06492
CATEGORIES:internal event
END:VEVENT
BEGIN:VEVENT
DTSTART;TZID=America/New_York:20240111T114500
DTEND;TZID=America/New_York:20240111T130000
DTSTAMP:20260422T065044
CREATED:20231214T193020Z
LAST-MODIFIED:20231214T193022Z
UID:10006303-1704973500-1704978000@www.calcagni.com
SUMMARY:Lunch and Learn with Mike Green MOT\, ABV from ABAPC Inc
DESCRIPTION:
URL:https://www.calcagni.com/event/lunch-and-learn-with-mike-green-mot-abv-from-abapc-inc/
LOCATION:36 North Main Street Wallingford\, 36 North Main Street\, Wallingford\, CT\, 06492
CATEGORIES:internal event
END:VEVENT
BEGIN:VEVENT
DTSTART;TZID=America/New_York:20231206T160000
DTEND;TZID=America/New_York:20231206T160000
DTSTAMP:20260422T065044
CREATED:20231129T191126Z
LAST-MODIFIED:20231129T191129Z
UID:10006297-1701878400-1701878400@www.calcagni.com
SUMMARY:Calcagni Social
DESCRIPTION:
URL:https://www.calcagni.com/event/calcagni-social/
LOCATION:36 North Main Street Wallingford\, 36 North Main Street\, Wallingford\, CT\, 06492
CATEGORIES:internal event
END:VEVENT
BEGIN:VEVENT
DTSTART;TZID=America/New_York:20231201T160000
DTEND;TZID=America/New_York:20231201T210000
DTSTAMP:20260422T065044
CREATED:20231027T185353Z
LAST-MODIFIED:20231027T185635Z
UID:10006296-1701446400-1701464400@www.calcagni.com
SUMMARY:Wallingford Holiday Stroll
DESCRIPTION:Shop and enjoy retailers & restaurants along Center St\, Quinnipiac St and Simpson Court. \n\n\n\n Local merchants will be open from 4-9pm to offer some discounts or deals to get your Christmas shopping off to a great start! As you stroll down Center St. you will be able to stop many of the merchants for a coffee\, or sample some goodies or even see Santa along the way. Then stroll down to the Gazebo and warm up by the bonfire\, visit some of the food trucks\, Crispy Melty\, Rogue Coffee\, along with some other favorites- Roasted Chestnuts\, Kettle Korn and some ice sculptors.
URL:https://www.calcagni.com/event/wallingford-holiday-stroll-2/
LOCATION:36 North Main Street Wallingford\, 36 North Main Street\, Wallingford\, CT\, 06492
CATEGORIES:external event
ORGANIZER;CN="Wallingford Center Inc":MAILTO:info@wallingfordcenterinc.com
END:VEVENT
BEGIN:VEVENT
DTSTART;TZID=America/New_York:20231026T114500
DTEND;TZID=America/New_York:20231026T130000
DTSTAMP:20260422T065044
CREATED:20230907T154935Z
LAST-MODIFIED:20230920T175226Z
UID:10006279-1698320700-1698325200@www.calcagni.com
SUMMARY:Lunch and learn - Carlene Shannon  Reverse Mortgage
DESCRIPTION:
URL:https://www.calcagni.com/event/lunch-and-learn-tony-smith-agent-success-summit-series/
LOCATION:36 North Main Street Wallingford\, 36 North Main Street\, Wallingford\, CT\, 06492
END:VEVENT
BEGIN:VEVENT
DTSTART;TZID=America/New_York:20231012T114500
DTEND;TZID=America/New_York:20231012T130000
DTSTAMP:20260422T065044
CREATED:20230907T154842Z
LAST-MODIFIED:20230907T154844Z
UID:10006278-1697111100-1697115600@www.calcagni.com
SUMMARY:Lunch and Learn with Mandy Miller from Province Mortgage
DESCRIPTION:
URL:https://www.calcagni.com/event/lunch-and-learn-with-mandy-miller-from-province-mortgage/
LOCATION:36 North Main Street Wallingford\, 36 North Main Street\, Wallingford\, CT\, 06492
END:VEVENT
BEGIN:VEVENT
DTSTART;TZID=America/New_York:20231010T093000
DTEND;TZID=America/New_York:20231010T103000
DTSTAMP:20260422T065044
CREATED:20230920T175115Z
LAST-MODIFIED:20230920T175403Z
UID:10006293-1696930200-1696933800@www.calcagni.com
SUMMARY:Connect MLS training with Kathy Elison
DESCRIPTION:
URL:https://www.calcagni.com/event/smartmls-new-platform-training-with-dawn-calvo/
LOCATION:36 North Main Street Wallingford\, 36 North Main Street\, Wallingford\, CT\, 06492
END:VEVENT
BEGIN:VEVENT
DTSTART;TZID=America/New_York:20231008T110000
DTEND;TZID=America/New_York:20231008T170000
DTSTAMP:20260422T065044
CREATED:20230627T162219Z
LAST-MODIFIED:20230627T162221Z
UID:10004307-1696762800-1696784400@www.calcagni.com
SUMMARY:Celebrate Wallingford
DESCRIPTION:
URL:https://www.calcagni.com/event/celebrate-wallingford-2/
LOCATION:36 North Main Street Wallingford\, 36 North Main Street\, Wallingford\, CT\, 06492
CATEGORIES:external event
ORGANIZER;CN="Wallingford Center Inc":MAILTO:info@wallingfordcenterinc.com
END:VEVENT
BEGIN:VEVENT
DTSTART;TZID=America/New_York:20231007T100000
DTEND;TZID=America/New_York:20231007T180000
DTSTAMP:20260422T065044
CREATED:20230627T162130Z
LAST-MODIFIED:20230627T162132Z
UID:10004306-1696672800-1696701600@www.calcagni.com
SUMMARY:Celebrate Wallingford
DESCRIPTION:
URL:https://www.calcagni.com/event/celebrate-wallingford/
LOCATION:36 North Main Street Wallingford\, 36 North Main Street\, Wallingford\, CT\, 06492
CATEGORIES:external event
ORGANIZER;CN="Wallingford Center Inc":MAILTO:info@wallingfordcenterinc.com
END:VEVENT
BEGIN:VEVENT
DTSTART;TZID=America/New_York:20231006T090000
DTEND;TZID=America/New_York:20231006T120000
DTSTAMP:20260422T065044
CREATED:20230907T155723Z
LAST-MODIFIED:20230907T155725Z
UID:10006288-1696582800-1696593600@www.calcagni.com
SUMMARY:Success Training; New Construction Transactions
DESCRIPTION:
URL:https://www.calcagni.com/event/success-training-new-construction-transactions/
LOCATION:36 North Main Street Wallingford\, 36 North Main Street\, Wallingford\, CT\, 06492
END:VEVENT
BEGIN:VEVENT
DTSTART;TZID=America/New_York:20231002T090000
DTEND;TZID=America/New_York:20231002T120000
DTSTAMP:20260422T065044
CREATED:20230907T155644Z
LAST-MODIFIED:20230907T155646Z
UID:10006287-1696237200-1696248000@www.calcagni.com
SUMMARY:Success Training; Open Houses
DESCRIPTION:
URL:https://www.calcagni.com/event/success-training-open-houses/
LOCATION:36 North Main Street Wallingford\, 36 North Main Street\, Wallingford\, CT\, 06492
END:VEVENT
BEGIN:VEVENT
DTSTART;TZID=America/New_York:20230929T090000
DTEND;TZID=America/New_York:20230929T120000
DTSTAMP:20260422T065044
CREATED:20230907T155610Z
LAST-MODIFIED:20230907T155612Z
UID:10006286-1695978000-1695988800@www.calcagni.com
SUMMARY:Success Training; Contract Execution to Closing
DESCRIPTION:
URL:https://www.calcagni.com/event/success-training-contract-execution-to-closing/
LOCATION:36 North Main Street Wallingford\, 36 North Main Street\, Wallingford\, CT\, 06492
END:VEVENT
BEGIN:VEVENT
DTSTART;TZID=America/New_York:20230928T114500
DTEND;TZID=America/New_York:20230928T130000
DTSTAMP:20260422T065044
CREATED:20230907T154609Z
LAST-MODIFIED:20230907T154611Z
UID:10006277-1695901500-1695906000@www.calcagni.com
SUMMARY:Lunch and learn - AI
DESCRIPTION:
URL:https://www.calcagni.com/event/lunch-and-learn-ai/
LOCATION:36 North Main Street Wallingford\, 36 North Main Street\, Wallingford\, CT\, 06492
END:VEVENT
BEGIN:VEVENT
DTSTART;TZID=America/New_York:20230926T100000
DTEND;TZID=America/New_York:20230926T110000
DTSTAMP:20260422T065044
CREATED:20230920T174933Z
LAST-MODIFIED:20230920T174935Z
UID:10006292-1695722400-1695726000@www.calcagni.com
SUMMARY:Ace Social Training - Peter Di Salvo from RisMedia
DESCRIPTION:
URL:https://www.calcagni.com/event/ace-social-training-peter-di-salvo-from-rismedia/
LOCATION:36 North Main Street Wallingford\, 36 North Main Street\, Wallingford\, CT\, 06492
END:VEVENT
BEGIN:VEVENT
DTSTART;TZID=America/New_York:20230925T090000
DTEND;TZID=America/New_York:20230925T120000
DTSTAMP:20260422T065044
CREATED:20230907T155517Z
LAST-MODIFIED:20230907T155520Z
UID:10006285-1695632400-1695643200@www.calcagni.com
SUMMARY:Success Training; CMA's Learning 1 -2 Approach
DESCRIPTION:
URL:https://www.calcagni.com/event/success-training-cmas-learning-1-2-approach/
LOCATION:36 North Main Street Wallingford\, 36 North Main Street\, Wallingford\, CT\, 06492
END:VEVENT
BEGIN:VEVENT
DTSTART;TZID=America/New_York:20230918T090000
DTEND;TZID=America/New_York:20230918T120000
DTSTAMP:20260422T065044
CREATED:20230907T155424Z
LAST-MODIFIED:20230907T155426Z
UID:10006284-1695027600-1695038400@www.calcagni.com
SUMMARY:Success Training; Writing a Strong Offer
DESCRIPTION:
URL:https://www.calcagni.com/event/success-training-writing-a-strong-offer/
LOCATION:36 North Main Street Wallingford\, 36 North Main Street\, Wallingford\, CT\, 06492
END:VEVENT
BEGIN:VEVENT
DTSTART;TZID=America/New_York:20230915T090000
DTEND;TZID=America/New_York:20230915T120000
DTSTAMP:20260422T065044
CREATED:20230907T155231Z
LAST-MODIFIED:20230907T155233Z
UID:10006283-1694768400-1694779200@www.calcagni.com
SUMMARY:Success Training; Working with Buyers and Renters
DESCRIPTION:
URL:https://www.calcagni.com/event/success-training-working-with-buyers-and-renters/
LOCATION:36 North Main Street Wallingford\, 36 North Main Street\, Wallingford\, CT\, 06492
END:VEVENT
BEGIN:VEVENT
DTSTART;TZID=America/New_York:20230914T114500
DTEND;TZID=America/New_York:20230914T130000
DTSTAMP:20260422T065044
CREATED:20230907T154508Z
LAST-MODIFIED:20230907T154510Z
UID:10006276-1694691900-1694696400@www.calcagni.com
SUMMARY:Calcagni Rock Star Panel
DESCRIPTION:Come and learn the secrets these agents employ to succeed in their business! Hosted by Mike Riccio
URL:https://www.calcagni.com/event/calcagni-rock-star-panel/
LOCATION:36 North Main Street Wallingford\, 36 North Main Street\, Wallingford\, CT\, 06492
END:VEVENT
BEGIN:VEVENT
DTSTART;TZID=America/New_York:20230911T090000
DTEND;TZID=America/New_York:20230911T120000
DTSTAMP:20260422T065044
CREATED:20230907T155152Z
LAST-MODIFIED:20230907T155154Z
UID:10006282-1694422800-1694433600@www.calcagni.com
SUMMARY:Success Training; Marketing and Social Media 101
DESCRIPTION:
URL:https://www.calcagni.com/event/success-training-marketing-and-social-media-101/
LOCATION:36 North Main Street Wallingford\, 36 North Main Street\, Wallingford\, CT\, 06492
END:VEVENT
BEGIN:VEVENT
DTSTART;TZID=America/New_York:20230908T090000
DTEND;TZID=America/New_York:20230908T120000
DTSTAMP:20260422T065044
CREATED:20230907T155108Z
LAST-MODIFIED:20230907T155110Z
UID:10006281-1694163600-1694174400@www.calcagni.com
SUMMARY:Success Training; Starting Right
DESCRIPTION:
URL:https://www.calcagni.com/event/success-training-starting-right/
LOCATION:36 North Main Street Wallingford\, 36 North Main Street\, Wallingford\, CT\, 06492
END:VEVENT
BEGIN:VEVENT
DTSTART;TZID=America/New_York:20230623T070000
DTEND;TZID=America/New_York:20230623T140000
DTSTAMP:20260422T065044
CREATED:20230615T150727Z
LAST-MODIFIED:20230615T150729Z
UID:10004303-1687503600-1687528800@www.calcagni.com
SUMMARY:East Haven Chamber Scholarship Golf Tournament
DESCRIPTION:The 2023 East Haven Chamber Scholarship Golf Tournament will be hosted at Lyman Orchard Golf Club. For more information and how to sign up\, visit the East Haven Chamber’s website: https://easthavenchamber.com/scholarship-golf-tournament/
URL:https://www.calcagni.com/event/east-haven-chamber-scholarship-golf-tournament/
LOCATION:36 North Main Street Wallingford\, 36 North Main Street\, Wallingford\, CT\, 06492
CATEGORIES:external event
END:VEVENT
BEGIN:VEVENT
DTSTART;TZID=America/New_York:20230621T080000
DTEND;TZID=America/New_York:20230621T170000
DTSTAMP:20260422T065044
CREATED:20230615T145844Z
LAST-MODIFIED:20230615T145846Z
UID:10004301-1687334400-1687366800@www.calcagni.com
SUMMARY:Paint Cheshire Purple
DESCRIPTION:June is Alzheimer’s Awareness Month (https://www.alz.org/abam/overview.asp). Due to it being the longest day of the year\, on June 21st people across the world will go purple. There are many ways to celebrate. For more information and ideas on how to get involved\, check out the Alzheimer’s Association website: https://act.alz.org/site/TR?fr_id=16164&pg=informational&sid=24695 \n\n\n\nMany towns across Connecticut are participating. So make sure to check out on social media or your local papers if your town\, or any local businesses\, will be hosting any type of special event.
URL:https://www.calcagni.com/event/paint-cheshire-purple/
LOCATION:36 North Main Street Wallingford\, 36 North Main Street\, Wallingford\, CT\, 06492
CATEGORIES:external event
END:VEVENT
BEGIN:VEVENT
DTSTART;TZID=America/New_York:20230615T083000
DTEND;TZID=America/New_York:20230615T163000
DTSTAMP:20260422T065044
CREATED:20230615T150305Z
LAST-MODIFIED:20230615T150420Z
UID:10004302-1686817800-1686846600@www.calcagni.com
SUMMARY:Allied Printing Services Charitable Foundation's 15 Annual Golf Tournament
DESCRIPTION:Hosted at the Tunxis Country Club\, the tournament proceeds go to benefit the Connecticut Children’s medical Center\, Cushing Academy\, Fidelco Guide Dog Foundation\, and the Memorial Sloan Kettering Cancer Center in New York.
URL:https://www.calcagni.com/event/allied-printing-services-charitable-foundations-15-annual-golf-tournament/
LOCATION:36 North Main Street Wallingford\, 36 North Main Street\, Wallingford\, CT\, 06492
CATEGORIES:external event
END:VEVENT
BEGIN:VEVENT
DTSTART;TZID=America/New_York:20230608T114500
DTEND;TZID=America/New_York:20230608T130000
DTSTAMP:20260422T065044
CREATED:20230503T151715Z
LAST-MODIFIED:20230503T151717Z
UID:10004300-1686224700-1686229200@www.calcagni.com
SUMMARY:Lunch and learn with CT Lighting
DESCRIPTION:
URL:https://www.calcagni.com/event/lunch-and-learn-with-ct-lighting/
LOCATION:36 North Main Street Wallingford\, 36 North Main Street\, Wallingford\, CT\, 06492
END:VEVENT
BEGIN:VEVENT
DTSTART;TZID=America/New_York:20230601T093000
DTEND;TZID=America/New_York:20230601T095000
DTSTAMP:20260422T065044
CREATED:20230501T123451Z
LAST-MODIFIED:20230501T123453Z
UID:10002870-1685611800-1685613000@www.calcagni.com
SUMMARY:Torch Run
DESCRIPTION:
URL:https://www.calcagni.com/event/torch-run/
LOCATION:36 North Main Street Wallingford\, 36 North Main Street\, Wallingford\, CT\, 06492
END:VEVENT
BEGIN:VEVENT
DTSTART;TZID=America/New_York:20230427T114500
DTEND;TZID=America/New_York:20230427T130000
DTSTAMP:20260422T065044
CREATED:20230412T174458Z
LAST-MODIFIED:20230412T174500Z
UID:10002869-1682595900-1682600400@www.calcagni.com
SUMMARY:Lunch and learn with Carlene Shannon
DESCRIPTION:Join us and learn about the GreenSmart Advantage program and The Home Depot where buyers can jumpstart sustainable home improvements by bundling energy-efficient appliances into their loan!  How cool is that!!!  Brette uses and recommends Carlene often to her buyers.  Come see what she has to offer. \n\n\n\nAlso\, Homebot –  Monitoring your home wealth has never been easier.
URL:https://www.calcagni.com/event/lunch-and-learn-with-carlene-shannon/
LOCATION:36 North Main Street Wallingford\, 36 North Main Street\, Wallingford\, CT\, 06492
END:VEVENT
BEGIN:VEVENT
DTSTART;TZID=America/New_York:20230413T123000
DTEND;TZID=America/New_York:20230413T140000
DTSTAMP:20260422T065044
CREATED:20230412T174338Z
LAST-MODIFIED:20230412T174340Z
UID:10002868-1681389000-1681394400@www.calcagni.com
SUMMARY:Lunch and Learn with Katie Lance!
DESCRIPTION:
URL:https://www.calcagni.com/event/lunch-and-learn-with-katie-lance/
LOCATION:36 North Main Street Wallingford\, 36 North Main Street\, Wallingford\, CT\, 06492
END:VEVENT
BEGIN:VEVENT
DTSTART;TZID=America/New_York:20230330T114500
DTEND;TZID=America/New_York:20230330T130000
DTSTAMP:20260422T065044
CREATED:20230131T181608Z
LAST-MODIFIED:20230227T200922Z
UID:10002862-1680176700-1680181200@www.calcagni.com
SUMMARY:Lunch and learn
DESCRIPTION:Antonio\, Scott Stoll and Remodelers
URL:https://www.calcagni.com/event/lunch-and-learn-3/
LOCATION:36 North Main Street Wallingford\, 36 North Main Street\, Wallingford\, CT\, 06492
CATEGORIES:internal event
END:VEVENT
BEGIN:VEVENT
DTSTART;TZID=America/New_York:20230316T114500
DTEND;TZID=America/New_York:20230316T130000
DTSTAMP:20260422T065044
CREATED:20230131T181523Z
LAST-MODIFIED:20230131T181525Z
UID:10002861-1678967100-1678971600@www.calcagni.com
SUMMARY:Lunch and Learn
DESCRIPTION:George DuPont – CHUBB Insurance\, 1099 Insurance Benefits Program
URL:https://www.calcagni.com/event/lunch-and-learn-2/
LOCATION:36 North Main Street Wallingford\, 36 North Main Street\, Wallingford\, CT\, 06492
END:VEVENT
BEGIN:VEVENT
DTSTART;TZID=America/New_York:20230302T114500
DTEND;TZID=America/New_York:20230302T130000
DTSTAMP:20260422T065044
CREATED:20230125T171912Z
LAST-MODIFIED:20230131T181704Z
UID:10002859-1677757500-1677762000@www.calcagni.com
SUMMARY:Lunch and learn - Busting the Attorney Involvement Misconceptions with Attorney Minicozzi
DESCRIPTION:Attorney Minicozzi will cover: confusion about the mechanics of the closing (where and when is it\, when/how I get my commission\, what is a wire transfer etc.). I also find there are big misunderstandings about the role of the attorney\, who is supposed to ask for extensions etc. The latest issue is the closing that will happen when the seller finds “suitable housing.” Lots of topics to discuss! And “time-to-own” program.
URL:https://www.calcagni.com/event/busting-the-attorney-involvement-misconceptions-with-attorney-minicozzi/
LOCATION:36 North Main Street Wallingford\, 36 North Main Street\, Wallingford\, CT\, 06492
END:VEVENT
END:VCALENDAR