BEGIN:VCALENDAR
VERSION:2.0
PRODID:-//Calcagni Real Estate - ECPv6.15.18//NONSGML v1.0//EN
CALSCALE:GREGORIAN
METHOD:PUBLISH
X-WR-CALNAME:Calcagni Real Estate
X-ORIGINAL-URL:https://www.calcagni.com
X-WR-CALDESC:Events for Calcagni Real Estate
REFRESH-INTERVAL;VALUE=DURATION:PT1H
X-Robots-Tag:noindex
X-PUBLISHED-TTL:PT1H
BEGIN:VTIMEZONE
TZID:America/New_York
BEGIN:DAYLIGHT
TZOFFSETFROM:-0500
TZOFFSETTO:-0400
TZNAME:EDT
DTSTART:20220313T070000
END:DAYLIGHT
BEGIN:STANDARD
TZOFFSETFROM:-0400
TZOFFSETTO:-0500
TZNAME:EST
DTSTART:20221106T060000
END:STANDARD
BEGIN:DAYLIGHT
TZOFFSETFROM:-0500
TZOFFSETTO:-0400
TZNAME:EDT
DTSTART:20230312T070000
END:DAYLIGHT
BEGIN:STANDARD
TZOFFSETFROM:-0400
TZOFFSETTO:-0500
TZNAME:EST
DTSTART:20231105T060000
END:STANDARD
BEGIN:DAYLIGHT
TZOFFSETFROM:-0500
TZOFFSETTO:-0400
TZNAME:EDT
DTSTART:20240310T070000
END:DAYLIGHT
BEGIN:STANDARD
TZOFFSETFROM:-0400
TZOFFSETTO:-0500
TZNAME:EST
DTSTART:20241103T060000
END:STANDARD
BEGIN:DAYLIGHT
TZOFFSETFROM:-0500
TZOFFSETTO:-0400
TZNAME:EDT
DTSTART:20250309T070000
END:DAYLIGHT
BEGIN:STANDARD
TZOFFSETFROM:-0400
TZOFFSETTO:-0500
TZNAME:EST
DTSTART:20251102T060000
END:STANDARD
END:VTIMEZONE
BEGIN:VEVENT
DTSTART;TZID=America/New_York:20240314T180000
DTEND;TZID=America/New_York:20240314T210000
DTSTAMP:20260423T223038
CREATED:20240312T145246Z
LAST-MODIFIED:20240313T134531Z
UID:10006323-1710439200-1710450000@www.calcagni.com
SUMMARY:HBRA Economic & Political Forecast
DESCRIPTION:To attend\, please register to the HBRA by March 8th.
URL:https://www.calcagni.com/event/hbra-economic-political-forecast/
CATEGORIES:external event
END:VEVENT
BEGIN:VEVENT
DTSTART;TZID=America/New_York:20240211T100000
DTEND;TZID=America/New_York:20240211T150000
DTSTAMP:20260423T223038
CREATED:20231213T192259Z
LAST-MODIFIED:20231213T192315Z
UID:10006300-1707645600-1707663600@www.calcagni.com
SUMMARY:CT Home & Remodeling Show
DESCRIPTION:The Home Builders and Remodelers Association of Central Connecticut (HBRA) is hosting its 76th Connecticut Home & Remodeling Show at the Connecticut Convention Center\, and our Calcagni Real Estate booth #733 will be there to welcome all of our fellow home lovers to chat all things Connecticut real estate! \n\n\n\nAccording to the HBRA\, “Connecticut’s largest and longest running Home and Remodeling Show offers residents of Connecticut and western Massachusetts a one-stop shopping experience in home products and services. You will be able to find a wide variety of home improvement\, building\, and remodeling exhibits from local and national vendors featuring thousands of ideas for your home and yard. Because this is the show that is produced locally by the Home Builders & Remodelers Association of Central Connecticut\, you have the confidence knowing that this home show represents many of our members and the people we do business with everyday.”
URL:https://www.calcagni.com/event/ct-home-remodeling-show-6/
LOCATION:Connecticut Convention Center\, 100 Columbus Boulevard\, Hartford\, Connecticut\, United States
CATEGORIES:external event
END:VEVENT
BEGIN:VEVENT
DTSTART;TZID=America/New_York:20240210T100000
DTEND;TZID=America/New_York:20240210T200000
DTSTAMP:20260423T223038
CREATED:20231213T192215Z
LAST-MODIFIED:20231213T192217Z
UID:10006299-1707559200-1707595200@www.calcagni.com
SUMMARY:CT Home & Remodeling Show
DESCRIPTION:The Home Builders and Remodelers Association of Central Connecticut (HBRA) is hosting its 76th Connecticut Home & Remodeling Show at the Connecticut Convention Center\, and our Calcagni Real Estate booth #733 will be there to welcome all of our fellow home lovers to chat all things Connecticut real estate! \n\n\n\nAccording to the HBRA\, “Connecticut’s largest and longest running Home and Remodeling Show offers residents of Connecticut and western Massachusetts a one-stop shopping experience in home products and services. You will be able to find a wide variety of home improvement\, building\, and remodeling exhibits from local and national vendors featuring thousands of ideas for your home and yard. Because this is the show that is produced locally by the Home Builders & Remodelers Association of Central Connecticut\, you have the confidence knowing that this home show represents many of our members and the people we do business with everyday.”
URL:https://www.calcagni.com/event/ct-home-remodeling-show-5/
LOCATION:Connecticut Convention Center\, 100 Columbus Boulevard\, Hartford\, Connecticut\, United States
CATEGORIES:external event
END:VEVENT
BEGIN:VEVENT
DTSTART;TZID=America/New_York:20240209T120000
DTEND;TZID=America/New_York:20240209T200000
DTSTAMP:20260423T223038
CREATED:20231213T192009Z
LAST-MODIFIED:20231213T192011Z
UID:10006298-1707480000-1707508800@www.calcagni.com
SUMMARY:CT Home & Remodeling Show
DESCRIPTION:The Home Builders and Remodelers Association of Central Connecticut (HBRA) is hosting its 76th Connecticut Home & Remodeling Show at the Connecticut Convention Center\, and our Calcagni Real Estate booth #733 will be there to welcome all of our fellow home lovers to chat all things Connecticut real estate! \n\n\n\nAccording to the HBRA\, “Connecticut’s largest and longest running Home and Remodeling Show offers residents of Connecticut and western Massachusetts a one-stop shopping experience in home products and services. You will be able to find a wide variety of home improvement\, building\, and remodeling exhibits from local and national vendors featuring thousands of ideas for your home and yard. Because this is the show that is produced locally by the Home Builders & Remodelers Association of Central Connecticut\, you have the confidence knowing that this home show represents many of our members and the people we do business with everyday.”
URL:https://www.calcagni.com/event/ct-home-remodeling-show-4/
LOCATION:Connecticut Convention Center\, 100 Columbus Boulevard\, Hartford\, Connecticut\, United States
CATEGORIES:external event
END:VEVENT
BEGIN:VEVENT
DTSTART;TZID=America/New_York:20230305T100000
DTEND;TZID=America/New_York:20230305T170000
DTSTAMP:20260423T223038
CREATED:20230227T203511Z
LAST-MODIFIED:20230227T203513Z
UID:10002865-1678010400-1678035600@www.calcagni.com
SUMMARY:CT Home & Remodeling Show
DESCRIPTION:The Home Builders and Remodelers Association of Central Connecticut (HBRA) is hosting its 75th Connecticut Home & Remodeling Show at the Connecticut Convention Center\, and our Calcagni Real Estate booth #733 will be there to welcome all of our fellow home lovers to chat all things Connecticut real estate! \n\n\n\nAccording to the HBRA\, “Connecticut’s largest and longest running Home and Remodeling Show offers residents of Connecticut and western Massachusetts a one-stop shopping experience in home products and services. You will be able to find a wide variety of home improvement\, building\, and remodeling exhibits from local and national vendors featuring thousands of ideas for your home and yard. Because this is the show that is produced locally by the Home Builders & Remodelers Association of Central Connecticut\, you have the confidence knowing that this home show represents many of our members and the people we do business with everyday.”
URL:https://www.calcagni.com/event/ct-home-remodeling-show-3/
LOCATION:Connecticut Convention Center\, 100 Columbus Boulevard\, Hartford\, Connecticut\, United States
CATEGORIES:external event
END:VEVENT
BEGIN:VEVENT
DTSTART;TZID=America/New_York:20230304T100000
DTEND;TZID=America/New_York:20230304T200000
DTSTAMP:20260423T223038
CREATED:20230227T203427Z
LAST-MODIFIED:20230227T203428Z
UID:10002864-1677924000-1677960000@www.calcagni.com
SUMMARY:CT Home & Remodeling Show
DESCRIPTION:The Home Builders and Remodelers Association of Central Connecticut (HBRA) is hosting its 75th Connecticut Home & Remodeling Show at the Connecticut Convention Center\, and our Calcagni Real Estate booth #733 will be there to welcome all of our fellow home lovers to chat all things Connecticut real estate! \n\n\n\nAccording to the HBRA\, “Connecticut’s largest and longest running Home and Remodeling Show offers residents of Connecticut and western Massachusetts a one-stop shopping experience in home products and services. You will be able to find a wide variety of home improvement\, building\, and remodeling exhibits from local and national vendors featuring thousands of ideas for your home and yard. Because this is the show that is produced locally by the Home Builders & Remodelers Association of Central Connecticut\, you have the confidence knowing that this home show represents many of our members and the people we do business with everyday.”
URL:https://www.calcagni.com/event/ct-home-remodeling-show-2/
LOCATION:Connecticut Convention Center\, 100 Columbus Boulevard\, Hartford\, Connecticut\, United States
CATEGORIES:external event
END:VEVENT
BEGIN:VEVENT
DTSTART;TZID=America/New_York:20230303T150000
DTEND;TZID=America/New_York:20230303T200000
DTSTAMP:20260423T223038
CREATED:20230227T203043Z
LAST-MODIFIED:20230227T203156Z
UID:10002863-1677855600-1677873600@www.calcagni.com
SUMMARY:CT Home & Remodeling Show
DESCRIPTION:The Home Builders and Remodelers Association of Central Connecticut (HBRA) is hosting its 75th Connecticut Home & Remodeling Show at the Connecticut Convention Center\, and our Calcagni Real Estate booth #733 will be there to welcome all of our fellow home lovers to chat all things Connecticut real estate! \n\n\n\nAccording to the HBRA\, “Connecticut’s largest and longest running Home and Remodeling Show offers residents of Connecticut and western Massachusetts a one-stop shopping experience in home products and services. You will be able to find a wide variety of home improvement\, building\, and remodeling exhibits from local and national vendors featuring thousands of ideas for your home and yard. Because this is the show that is produced locally by the Home Builders & Remodelers Association of Central Connecticut\, you have the confidence knowing that this home show represents many of our members and the people we do business with everyday.”
URL:https://www.calcagni.com/event/ct-home-remodeling-show/
LOCATION:Connecticut Convention Center\, 100 Columbus Boulevard\, Hartford\, Connecticut\, United States
CATEGORIES:external event
END:VEVENT
END:VCALENDAR