BEGIN:VCALENDAR
VERSION:2.0
PRODID:-//Calcagni Real Estate - ECPv6.15.18//NONSGML v1.0//EN
CALSCALE:GREGORIAN
METHOD:PUBLISH
X-WR-CALNAME:Calcagni Real Estate
X-ORIGINAL-URL:https://www.calcagni.com
X-WR-CALDESC:Events for Calcagni Real Estate
REFRESH-INTERVAL;VALUE=DURATION:PT1H
X-Robots-Tag:noindex
X-PUBLISHED-TTL:PT1H
BEGIN:VTIMEZONE
TZID:America/New_York
BEGIN:DAYLIGHT
TZOFFSETFROM:-0500
TZOFFSETTO:-0400
TZNAME:EDT
DTSTART:20240310T070000
END:DAYLIGHT
BEGIN:STANDARD
TZOFFSETFROM:-0400
TZOFFSETTO:-0500
TZNAME:EST
DTSTART:20241103T060000
END:STANDARD
BEGIN:DAYLIGHT
TZOFFSETFROM:-0500
TZOFFSETTO:-0400
TZNAME:EDT
DTSTART:20250309T070000
END:DAYLIGHT
BEGIN:STANDARD
TZOFFSETFROM:-0400
TZOFFSETTO:-0500
TZNAME:EST
DTSTART:20251102T060000
END:STANDARD
BEGIN:DAYLIGHT
TZOFFSETFROM:-0500
TZOFFSETTO:-0400
TZNAME:EDT
DTSTART:20260308T070000
END:DAYLIGHT
BEGIN:STANDARD
TZOFFSETFROM:-0400
TZOFFSETTO:-0500
TZNAME:EST
DTSTART:20261101T060000
END:STANDARD
END:VTIMEZONE
BEGIN:VEVENT
DTSTART;TZID=America/New_York:20250903T160000
DTEND;TZID=America/New_York:20250903T180000
DTSTAMP:20260421T211409
CREATED:20250818T173828Z
LAST-MODIFIED:20250818T173828Z
UID:10006408-1756915200-1756922400@www.calcagni.com
SUMMARY:Networking Event & Ribbon Cutting at Province Mortgage Associates
DESCRIPTION:Sept 3rd – 4-6pm – Networking Event & Ribbon Cutting at Province Mortgage Associates – 116 Center Street\, Wallingford – RSVP to the Chamber
URL:https://www.calcagni.com/event/networking-event-ribbon-cutting-at-province-mortgage-associates/
CATEGORIES:external event
END:VEVENT
BEGIN:VEVENT
DTSTART;TZID=America/New_York:20250904T180000
DTEND;TZID=America/New_York:20250904T210000
DTSTAMP:20260421T211409
CREATED:20250826T165948Z
LAST-MODIFIED:20250826T165948Z
UID:10006409-1757008800-1757019600@www.calcagni.com
SUMMARY:HBRA Developers Forum
DESCRIPTION:Sept 4th HBRA Developers Forum – 6pm-9pm Casa Mia in Berlin
URL:https://www.calcagni.com/event/hbra-developers-forum/
CATEGORIES:external event
END:VEVENT
BEGIN:VEVENT
DTSTART;TZID=America/New_York:20250913T100000
DTEND;TZID=America/New_York:20250913T160000
DTSTAMP:20260421T211409
CREATED:20250708T130557Z
LAST-MODIFIED:20250708T130557Z
UID:10006399-1757757600-1757779200@www.calcagni.com
SUMMARY:Cheshire Fall Festival
DESCRIPTION:Cheshire Fall Festival\nBartlem Park \n9/13/25\n10 am – 4 pm
URL:https://www.calcagni.com/event/cheshire-fall-festival-3/
LOCATION:Bartlem Recreation Area\, 520 South Main Street\, Cheshire\, CT\, 06492\, United States
CATEGORIES:external event
GEO:41.4409009;-72.8301354
X-APPLE-STRUCTURED-LOCATION;VALUE=URI;X-ADDRESS=Bartlem Recreation Area 520 South Main Street Cheshire CT 06492 United States;X-APPLE-RADIUS=500;X-TITLE=520 South Main Street:geo:-72.8301354,41.4409009
END:VEVENT
BEGIN:VEVENT
DTSTART;TZID=America/New_York:20250916T080000
DTEND;TZID=America/New_York:20250916T170000
DTSTAMP:20260421T211409
CREATED:20250812T180932Z
LAST-MODIFIED:20250812T180932Z
UID:10006406-1758009600-1758042000@www.calcagni.com
SUMMARY:Yearly CTR event at the Bushnell
DESCRIPTION:Sept 16th – Yearly CTR event at the Bushnell (must register by 9/3) https://www.ctrealtors.com/events/all-member-2025/
URL:https://www.calcagni.com/event/yearly-ctr-event-at-the-bushnell/
CATEGORIES:external event
END:VEVENT
BEGIN:VEVENT
DTSTART;TZID=America/New_York:20250917T090000
DTEND;TZID=America/New_York:20250917T170000
DTSTAMP:20260421T211409
CREATED:20250729T142853Z
LAST-MODIFIED:20250729T142853Z
UID:10006401-1758099600-1758128400@www.calcagni.com
SUMMARY:32nd Annual Southington Chamber Cup Classic
DESCRIPTION:32nd Annual Southington Chamber Cup Classic\nHawk’s Landing Country Club\n201 Pattonwood Dr\nSouthington\n9 am
URL:https://www.calcagni.com/event/32nd-annual-southington-chamber-cup-classic/
CATEGORIES:external event
END:VEVENT
BEGIN:VEVENT
DTSTART;TZID=America/New_York:20250917T180000
DTEND;TZID=America/New_York:20250917T210000
DTSTAMP:20260421T211409
CREATED:20250818T154449Z
LAST-MODIFIED:20250818T154449Z
UID:10006407-1758132000-1758142800@www.calcagni.com
SUMMARY:Midstate Annual Meeting
DESCRIPTION:Sept 17th – 6pm Midstate Annual Meeting – Tunxis Country Club
URL:https://www.calcagni.com/event/midstate-annual-meeting/
CATEGORIES:external event
END:VEVENT
BEGIN:VEVENT
DTSTART;TZID=America/New_York:20250918T090000
DTEND;TZID=America/New_York:20250918T170000
DTSTAMP:20260421T211409
CREATED:20250528T133430Z
LAST-MODIFIED:20250708T130930Z
UID:10006392-1758186000-1758214800@www.calcagni.com
SUMMARY:NHMR Golf Tournament
DESCRIPTION:Lyman Orchards Golf Club\n70 Lyman Rd\nMiddlefield \n9 am – registration\n10 am – shotgun\n2 pm – 1 hour golf clinic\n3:30 pm – buffet
URL:https://www.calcagni.com/event/nhmr-golf-tournament/
CATEGORIES:external event
ORGANIZER;CN="New Haven Middlesex Realtors":MAILTO:info@nhmrealtors.com
END:VEVENT
BEGIN:VEVENT
DTSTART;TZID=America/New_York:20250918T173000
DTEND;TZID=America/New_York:20250918T210000
DTSTAMP:20260421T211409
CREATED:20250729T142959Z
LAST-MODIFIED:20250729T142959Z
UID:10006402-1758216600-1758229200@www.calcagni.com
SUMMARY:Corks & Forks Fundraising Event
DESCRIPTION:Corks & Forks Fundraising Event to benefit the Gaylord Arts Fund\nBrooker South Lawn\nGaylord Hospital\n50 Gaylord Farm Rd\nWallingford \n5:30 pm – 9:00 pm
URL:https://www.calcagni.com/event/corks-forks-fundraising-event/
CATEGORIES:external event
END:VEVENT
END:VCALENDAR