BEGIN:VCALENDAR
VERSION:2.0
PRODID:-//Calcagni Real Estate - ECPv6.15.18//NONSGML v1.0//EN
CALSCALE:GREGORIAN
METHOD:PUBLISH
X-WR-CALNAME:Calcagni Real Estate
X-ORIGINAL-URL:https://www.calcagni.com
X-WR-CALDESC:Events for Calcagni Real Estate
REFRESH-INTERVAL;VALUE=DURATION:PT1H
X-Robots-Tag:noindex
X-PUBLISHED-TTL:PT1H
BEGIN:VTIMEZONE
TZID:America/New_York
BEGIN:DAYLIGHT
TZOFFSETFROM:-0500
TZOFFSETTO:-0400
TZNAME:EDT
DTSTART:20240310T070000
END:DAYLIGHT
BEGIN:STANDARD
TZOFFSETFROM:-0400
TZOFFSETTO:-0500
TZNAME:EST
DTSTART:20241103T060000
END:STANDARD
BEGIN:DAYLIGHT
TZOFFSETFROM:-0500
TZOFFSETTO:-0400
TZNAME:EDT
DTSTART:20250309T070000
END:DAYLIGHT
BEGIN:STANDARD
TZOFFSETFROM:-0400
TZOFFSETTO:-0500
TZNAME:EST
DTSTART:20251102T060000
END:STANDARD
BEGIN:DAYLIGHT
TZOFFSETFROM:-0500
TZOFFSETTO:-0400
TZNAME:EDT
DTSTART:20260308T070000
END:DAYLIGHT
BEGIN:STANDARD
TZOFFSETFROM:-0400
TZOFFSETTO:-0500
TZNAME:EST
DTSTART:20261101T060000
END:STANDARD
END:VTIMEZONE
BEGIN:VEVENT
DTSTART;TZID=America/New_York:20250515T113000
DTEND;TZID=America/New_York:20250515T130000
DTSTAMP:20260422T101126
CREATED:20250414T194441Z
LAST-MODIFIED:20250414T194441Z
UID:10006388-1747308600-1747314000@www.calcagni.com
SUMMARY:Lunch and Learn - Calcagni Social
DESCRIPTION:Unlock the full power of Calcagni’s Auto-post social media program powered by RisMedia’s AceSocial.
URL:https://www.calcagni.com/event/lunch-and-learn-calcagni-social/
LOCATION:36 North Main Street Wallingford\, 36 North Main Street\, Wallingford\, CT\, 06492
CATEGORIES:internal event
ORGANIZER;CN="Calcagni Real Estate":MAILTO:customerservice@calcagni.com
END:VEVENT
BEGIN:VEVENT
DTSTART;TZID=America/New_York:20250517T190000
DTEND;TZID=America/New_York:20250517T210000
DTSTAMP:20260422T101126
CREATED:20250414T193945Z
LAST-MODIFIED:20250414T193945Z
UID:10006386-1747508400-1747515600@www.calcagni.com
SUMMARY:Cheshire Rotary Club’s Comedy Show
DESCRIPTION:Cheshire Rotary Club’s Comedy Show at the Reading Room – 134 Elm St\, Cheshire
URL:https://www.calcagni.com/event/cheshire-rotary-clubs-comedy-show/
CATEGORIES:external event
END:VEVENT
END:VCALENDAR