BEGIN:VCALENDAR
VERSION:2.0
PRODID:-//Calcagni Real Estate - ECPv6.15.18//NONSGML v1.0//EN
CALSCALE:GREGORIAN
METHOD:PUBLISH
X-ORIGINAL-URL:https://www.calcagni.com
X-WR-CALDESC:Events for Calcagni Real Estate
REFRESH-INTERVAL;VALUE=DURATION:PT1H
X-Robots-Tag:noindex
X-PUBLISHED-TTL:PT1H
BEGIN:VTIMEZONE
TZID:America/New_York
BEGIN:DAYLIGHT
TZOFFSETFROM:-0500
TZOFFSETTO:-0400
TZNAME:EDT
DTSTART:20250309T070000
END:DAYLIGHT
BEGIN:STANDARD
TZOFFSETFROM:-0400
TZOFFSETTO:-0500
TZNAME:EST
DTSTART:20251102T060000
END:STANDARD
BEGIN:DAYLIGHT
TZOFFSETFROM:-0500
TZOFFSETTO:-0400
TZNAME:EDT
DTSTART:20260308T070000
END:DAYLIGHT
BEGIN:STANDARD
TZOFFSETFROM:-0400
TZOFFSETTO:-0500
TZNAME:EST
DTSTART:20261101T060000
END:STANDARD
BEGIN:DAYLIGHT
TZOFFSETFROM:-0500
TZOFFSETTO:-0400
TZNAME:EDT
DTSTART:20270314T070000
END:DAYLIGHT
BEGIN:STANDARD
TZOFFSETFROM:-0400
TZOFFSETTO:-0500
TZNAME:EST
DTSTART:20271107T060000
END:STANDARD
END:VTIMEZONE
BEGIN:VEVENT
DTSTART;TZID=America/New_York:20260312T113000
DTEND;TZID=America/New_York:20260312T130000
DTSTAMP:20260421T135406
CREATED:20260119T204136Z
LAST-MODIFIED:20260119T204136Z
UID:10006423-1773315000-1773320400@www.calcagni.com
SUMMARY:L&L Schaefer Inspections – Seller Side Strategy & Inspection Fallout
DESCRIPTION:11:30 am – 1 pm with Schaefer Inspections – presenting: Seller Side Strategy & Inspection Fallout
URL:https://www.calcagni.com/event/ll-schaefer-inspections-seller-side-strategy-inspection-fallout/
CATEGORIES:internal event
END:VEVENT
BEGIN:VEVENT
DTSTART;TZID=America/New_York:20260326T113000
DTEND;TZID=America/New_York:20260326T130000
DTSTAMP:20260421T135406
CREATED:20260218T205137Z
LAST-MODIFIED:20260218T205137Z
UID:10006427-1774524600-1774530000@www.calcagni.com
SUMMARY:Lunch and Learn with Shaun Slight\, Senior Loan Originator
DESCRIPTION:3/26 11:45 am – 1:00 pm. \nLunch and Learn with Shaun Slight\, Senior Loan Originator from Cardinal Financial Company LTD
URL:https://www.calcagni.com/event/lunch-and-learn-with-shaun-slight-senior-loan-originator/
CATEGORIES:internal event
END:VEVENT
END:VCALENDAR