BEGIN:VCALENDAR
VERSION:2.0
PRODID:-//Calcagni Real Estate - ECPv6.15.18//NONSGML v1.0//EN
CALSCALE:GREGORIAN
METHOD:PUBLISH
X-ORIGINAL-URL:https://www.calcagni.com
X-WR-CALDESC:Events for Calcagni Real Estate
REFRESH-INTERVAL;VALUE=DURATION:PT1H
X-Robots-Tag:noindex
X-PUBLISHED-TTL:PT1H
BEGIN:VTIMEZONE
TZID:America/New_York
BEGIN:DAYLIGHT
TZOFFSETFROM:-0500
TZOFFSETTO:-0400
TZNAME:EDT
DTSTART:20220313T070000
END:DAYLIGHT
BEGIN:STANDARD
TZOFFSETFROM:-0400
TZOFFSETTO:-0500
TZNAME:EST
DTSTART:20221106T060000
END:STANDARD
BEGIN:DAYLIGHT
TZOFFSETFROM:-0500
TZOFFSETTO:-0400
TZNAME:EDT
DTSTART:20230312T070000
END:DAYLIGHT
BEGIN:STANDARD
TZOFFSETFROM:-0400
TZOFFSETTO:-0500
TZNAME:EST
DTSTART:20231105T060000
END:STANDARD
BEGIN:DAYLIGHT
TZOFFSETFROM:-0500
TZOFFSETTO:-0400
TZNAME:EDT
DTSTART:20240310T070000
END:DAYLIGHT
BEGIN:STANDARD
TZOFFSETFROM:-0400
TZOFFSETTO:-0500
TZNAME:EST
DTSTART:20241103T060000
END:STANDARD
BEGIN:DAYLIGHT
TZOFFSETFROM:-0500
TZOFFSETTO:-0400
TZNAME:EDT
DTSTART:20250309T070000
END:DAYLIGHT
BEGIN:STANDARD
TZOFFSETFROM:-0400
TZOFFSETTO:-0500
TZNAME:EST
DTSTART:20251102T060000
END:STANDARD
END:VTIMEZONE
BEGIN:VEVENT
DTSTART;TZID=America/New_York:20240518T100000
DTEND;TZID=America/New_York:20240518T140000
DTSTAMP:20260422T141159
CREATED:20240501T164933Z
LAST-MODIFIED:20240501T165053Z
UID:10006347-1716026400-1716040800@www.calcagni.com
SUMMARY:Calcagni Car Care Fair
DESCRIPTION:Calcagni’s Car Care Fair will be held on Saturday\, May 18th from 10am – 2pm at our Cheshire Office.
URL:https://www.calcagni.com/event/calcagni-car-care-fair/
LOCATION:Cheshire Office\, 975 South Main Street\, Cheshire\, Connecticut\, 06410\, United States
CATEGORIES:external event
ORGANIZER;CN="Calcagni Real Estate":MAILTO:customerservice@calcagni.com
END:VEVENT
BEGIN:VEVENT
DTSTART;TZID=America/New_York:20240504T190000
DTEND;TZID=America/New_York:20240504T190000
DTSTAMP:20260422T141159
CREATED:20240312T152214Z
LAST-MODIFIED:20240313T142924Z
UID:10006325-1714849200-1714849200@www.calcagni.com
SUMMARY:Cheshire Rotary Club Comedy Night
DESCRIPTION:
URL:https://www.calcagni.com/event/cheshire-rotary-club-comedy-night/
LOCATION:Connecticut
CATEGORIES:external event
END:VEVENT
BEGIN:VEVENT
DTSTART;TZID=America/New_York:20240425T180000
DTEND;TZID=America/New_York:20240425T180000
DTSTAMP:20260422T141159
CREATED:20240312T151818Z
LAST-MODIFIED:20240313T132142Z
UID:10006324-1714068000-1714068000@www.calcagni.com
SUMMARY:HBRA April Membership Meeting
DESCRIPTION:
URL:https://www.calcagni.com/event/hbra-april-membership-meeting/
LOCATION:Connecticut
CATEGORIES:external event
END:VEVENT
BEGIN:VEVENT
DTSTART;TZID=America/New_York:20240421T070000
DTEND;TZID=America/New_York:20240421T070000
DTSTAMP:20260422T141159
CREATED:20240115T200507Z
LAST-MODIFIED:20240229T161534Z
UID:10006317-1713682800-1713682800@www.calcagni.com
SUMMARY:Cheshire Road Race
DESCRIPTION:Race begins at Cheshire High School
URL:https://www.calcagni.com/event/cheshire-road-race-2/
LOCATION:Cheshire High School\, 525 South Main St\, Cheshire\, CT\, 06410\, United States
CATEGORIES:external event
ORGANIZER;CN="Ion Bank":MAILTO:jody@jbsports.com
GEO:41.4896882;-72.9083591
X-APPLE-STRUCTURED-LOCATION;VALUE=URI;X-ADDRESS=Cheshire High School 525 South Main St Cheshire CT 06410 United States;X-APPLE-RADIUS=500;X-TITLE=525 South Main St:geo:-72.9083591,41.4896882
END:VEVENT
BEGIN:VEVENT
DTSTART;TZID=America/New_York:20240420T183000
DTEND;TZID=America/New_York:20240420T183000
DTSTAMP:20260422T141159
CREATED:20240312T171630Z
LAST-MODIFIED:20240312T171632Z
UID:10006339-1713637800-1713637800@www.calcagni.com
SUMMARY:Middlesex Real Estate Council Comedy Show
DESCRIPTION:
URL:https://www.calcagni.com/event/middlesex-real-estate-council-comedy-show/
LOCATION:Connecticut
CATEGORIES:external event
END:VEVENT
BEGIN:VEVENT
DTSTART;TZID=America/New_York:20240323T083000
DTEND;TZID=America/New_York:20240323T140000
DTSTAMP:20260422T141159
CREATED:20240229T163021Z
LAST-MODIFIED:20240229T163023Z
UID:10006320-1711182600-1711202400@www.calcagni.com
SUMMARY:Cheshire Home\, Health and Garden Show
DESCRIPTION:
URL:https://www.calcagni.com/event/cheshire-home-health-and-garden-show-2/
LOCATION:Cheshire High School\, 525 South Main St\, Cheshire\, CT\, 06410\, United States
CATEGORIES:external event
GEO:41.4896882;-72.9083591
X-APPLE-STRUCTURED-LOCATION;VALUE=URI;X-ADDRESS=Cheshire High School 525 South Main St Cheshire CT 06410 United States;X-APPLE-RADIUS=500;X-TITLE=525 South Main St:geo:-72.9083591,41.4896882
END:VEVENT
BEGIN:VEVENT
DTSTART;TZID=America/New_York:20240314T180000
DTEND;TZID=America/New_York:20240314T210000
DTSTAMP:20260422T141159
CREATED:20240312T145246Z
LAST-MODIFIED:20240313T134531Z
UID:10006323-1710439200-1710450000@www.calcagni.com
SUMMARY:HBRA Economic & Political Forecast
DESCRIPTION:To attend\, please register to the HBRA by March 8th.
URL:https://www.calcagni.com/event/hbra-economic-political-forecast/
LOCATION:Connecticut
CATEGORIES:external event
END:VEVENT
BEGIN:VEVENT
DTSTART;TZID=America/New_York:20240211T100000
DTEND;TZID=America/New_York:20240211T150000
DTSTAMP:20260422T141159
CREATED:20231213T192259Z
LAST-MODIFIED:20231213T192315Z
UID:10006300-1707645600-1707663600@www.calcagni.com
SUMMARY:CT Home & Remodeling Show
DESCRIPTION:The Home Builders and Remodelers Association of Central Connecticut (HBRA) is hosting its 76th Connecticut Home & Remodeling Show at the Connecticut Convention Center\, and our Calcagni Real Estate booth #733 will be there to welcome all of our fellow home lovers to chat all things Connecticut real estate! \n\n\n\nAccording to the HBRA\, “Connecticut’s largest and longest running Home and Remodeling Show offers residents of Connecticut and western Massachusetts a one-stop shopping experience in home products and services. You will be able to find a wide variety of home improvement\, building\, and remodeling exhibits from local and national vendors featuring thousands of ideas for your home and yard. Because this is the show that is produced locally by the Home Builders & Remodelers Association of Central Connecticut\, you have the confidence knowing that this home show represents many of our members and the people we do business with everyday.”
URL:https://www.calcagni.com/event/ct-home-remodeling-show-6/
LOCATION:Connecticut Convention Center\, 100 Columbus Boulevard\, Hartford\, Connecticut\, United States
CATEGORIES:external event
END:VEVENT
BEGIN:VEVENT
DTSTART;TZID=America/New_York:20240210T100000
DTEND;TZID=America/New_York:20240210T200000
DTSTAMP:20260422T141159
CREATED:20231213T192215Z
LAST-MODIFIED:20231213T192217Z
UID:10006299-1707559200-1707595200@www.calcagni.com
SUMMARY:CT Home & Remodeling Show
DESCRIPTION:The Home Builders and Remodelers Association of Central Connecticut (HBRA) is hosting its 76th Connecticut Home & Remodeling Show at the Connecticut Convention Center\, and our Calcagni Real Estate booth #733 will be there to welcome all of our fellow home lovers to chat all things Connecticut real estate! \n\n\n\nAccording to the HBRA\, “Connecticut’s largest and longest running Home and Remodeling Show offers residents of Connecticut and western Massachusetts a one-stop shopping experience in home products and services. You will be able to find a wide variety of home improvement\, building\, and remodeling exhibits from local and national vendors featuring thousands of ideas for your home and yard. Because this is the show that is produced locally by the Home Builders & Remodelers Association of Central Connecticut\, you have the confidence knowing that this home show represents many of our members and the people we do business with everyday.”
URL:https://www.calcagni.com/event/ct-home-remodeling-show-5/
LOCATION:Connecticut Convention Center\, 100 Columbus Boulevard\, Hartford\, Connecticut\, United States
CATEGORIES:external event
END:VEVENT
BEGIN:VEVENT
DTSTART;TZID=America/New_York:20240209T120000
DTEND;TZID=America/New_York:20240209T200000
DTSTAMP:20260422T141159
CREATED:20231213T192009Z
LAST-MODIFIED:20231213T192011Z
UID:10006298-1707480000-1707508800@www.calcagni.com
SUMMARY:CT Home & Remodeling Show
DESCRIPTION:The Home Builders and Remodelers Association of Central Connecticut (HBRA) is hosting its 76th Connecticut Home & Remodeling Show at the Connecticut Convention Center\, and our Calcagni Real Estate booth #733 will be there to welcome all of our fellow home lovers to chat all things Connecticut real estate! \n\n\n\nAccording to the HBRA\, “Connecticut’s largest and longest running Home and Remodeling Show offers residents of Connecticut and western Massachusetts a one-stop shopping experience in home products and services. You will be able to find a wide variety of home improvement\, building\, and remodeling exhibits from local and national vendors featuring thousands of ideas for your home and yard. Because this is the show that is produced locally by the Home Builders & Remodelers Association of Central Connecticut\, you have the confidence knowing that this home show represents many of our members and the people we do business with everyday.”
URL:https://www.calcagni.com/event/ct-home-remodeling-show-4/
LOCATION:Connecticut Convention Center\, 100 Columbus Boulevard\, Hartford\, Connecticut\, United States
CATEGORIES:external event
END:VEVENT
BEGIN:VEVENT
DTSTART;TZID=America/New_York:20240125T163000
DTEND;TZID=America/New_York:20240125T190000
DTSTAMP:20260422T141159
CREATED:20240110T183950Z
LAST-MODIFIED:20240110T183952Z
UID:10006316-1706200200-1706209200@www.calcagni.com
SUMMARY:NHMR Installation Dinner
DESCRIPTION:
URL:https://www.calcagni.com/event/nhmr-installation-dinner/
LOCATION:Connecticut
CATEGORIES:external event,internal event
ORGANIZER;CN="New Haven Middlesex Realtors":MAILTO:info@nhmrealtors.com
END:VEVENT
BEGIN:VEVENT
DTSTART;TZID=America/New_York:20240117T180000
DTEND;TZID=America/New_York:20240117T210000
DTSTAMP:20260422T141159
CREATED:20231214T193617Z
LAST-MODIFIED:20240110T183021Z
UID:10006305-1705514400-1705525200@www.calcagni.com
SUMMARY:Midstate Installation Dinner
DESCRIPTION:
URL:https://www.calcagni.com/event/midstate-installation-dinner/
LOCATION:Aqua Turf\, 556 Mulberry St\, Plantsville\, Connecticut\, 06479\, United States
CATEGORIES:external event,internal event
END:VEVENT
BEGIN:VEVENT
DTSTART;TZID=America/New_York:20231201T160000
DTEND;TZID=America/New_York:20231201T210000
DTSTAMP:20260422T141159
CREATED:20231027T185353Z
LAST-MODIFIED:20231027T185635Z
UID:10006296-1701446400-1701464400@www.calcagni.com
SUMMARY:Wallingford Holiday Stroll
DESCRIPTION:Shop and enjoy retailers & restaurants along Center St\, Quinnipiac St and Simpson Court. \n\n\n\n Local merchants will be open from 4-9pm to offer some discounts or deals to get your Christmas shopping off to a great start! As you stroll down Center St. you will be able to stop many of the merchants for a coffee\, or sample some goodies or even see Santa along the way. Then stroll down to the Gazebo and warm up by the bonfire\, visit some of the food trucks\, Crispy Melty\, Rogue Coffee\, along with some other favorites- Roasted Chestnuts\, Kettle Korn and some ice sculptors.
URL:https://www.calcagni.com/event/wallingford-holiday-stroll-2/
LOCATION:36 North Main Street Wallingford\, 36 North Main Street\, Wallingford\, CT\, 06492
CATEGORIES:external event
ORGANIZER;CN="Wallingford Center Inc":MAILTO:info@wallingfordcenterinc.com
END:VEVENT
BEGIN:VEVENT
DTSTART;TZID=America/New_York:20231008T110000
DTEND;TZID=America/New_York:20231008T170000
DTSTAMP:20260422T141159
CREATED:20230627T162219Z
LAST-MODIFIED:20230627T162221Z
UID:10004307-1696762800-1696784400@www.calcagni.com
SUMMARY:Celebrate Wallingford
DESCRIPTION:
URL:https://www.calcagni.com/event/celebrate-wallingford-2/
LOCATION:36 North Main Street Wallingford\, 36 North Main Street\, Wallingford\, CT\, 06492
CATEGORIES:external event
ORGANIZER;CN="Wallingford Center Inc":MAILTO:info@wallingfordcenterinc.com
END:VEVENT
BEGIN:VEVENT
DTSTART;TZID=America/New_York:20231007T100000
DTEND;TZID=America/New_York:20231007T180000
DTSTAMP:20260422T141159
CREATED:20230627T162130Z
LAST-MODIFIED:20230627T162132Z
UID:10004306-1696672800-1696701600@www.calcagni.com
SUMMARY:Celebrate Wallingford
DESCRIPTION:
URL:https://www.calcagni.com/event/celebrate-wallingford/
LOCATION:36 North Main Street Wallingford\, 36 North Main Street\, Wallingford\, CT\, 06492
CATEGORIES:external event
ORGANIZER;CN="Wallingford Center Inc":MAILTO:info@wallingfordcenterinc.com
END:VEVENT
BEGIN:VEVENT
DTSTART;TZID=America/New_York:20230930T110000
DTEND;TZID=America/New_York:20230930T160000
DTSTAMP:20260422T141159
CREATED:20230907T161027Z
LAST-MODIFIED:20230922T173542Z
UID:10006290-1696071600-1696089600@www.calcagni.com
SUMMARY:North Haven Festival and Business Expo
DESCRIPTION:The 1st Annual North Haven Festival and Business Expo has been designed to connect the North Haven and Wallingford business communities to the residents for which they serve. It will be a daylong celebration of business on the North Haven Green. Local businesses and craft vendors will be on display under an 80 ft tent. \n\n\n\nThere will be several food vendors\, kids activities\, an antique car show\, and giveaways which include round trip tickets for 2 and a weber griddle among other giveaways. \n\n\n\nLearn more: https://business.quinncham.com/events/details/north-haven-festival-and-business-expo-5686
URL:https://www.calcagni.com/event/north-haven-festival-and-business-expo/
LOCATION:North Haven Town Green\, 19 Church St\, North Haven\, CT\, 06473\, United States
CATEGORIES:external event
ORGANIZER;CN="Quinnipiac Chamber of Commerce":MAILTO:gary@quinncham.com
GEO:41.3872117;-72.8605943
X-APPLE-STRUCTURED-LOCATION;VALUE=URI;X-ADDRESS=North Haven Town Green 19 Church St North Haven CT 06473 United States;X-APPLE-RADIUS=500;X-TITLE=19 Church St:geo:-72.8605943,41.3872117
END:VEVENT
BEGIN:VEVENT
DTSTART;TZID=America/New_York:20230924T080000
DTEND;TZID=America/New_York:20230924T080000
DTSTAMP:20260422T141159
CREATED:20230815T163223Z
LAST-MODIFIED:20230815T163225Z
UID:10004309-1695542400-1695542400@www.calcagni.com
SUMMARY:2023 Benhaven Walk for Autism
DESCRIPTION:8:00am: Packet Pick-Up & Registration. Race day entries accepted. \n\n\n\n9:30am: 2 Mile Walk Start \n\n\n\n \n\n\n\nCan’t make the walk? Not to worry. Sign up for the virtual walk\, log your own miles and an event t-shirt and a race bib will be mailed to you.
URL:https://www.calcagni.com/event/2023-benhaven-walk-for-autism/
LOCATION:North Haven High School\, 221 Elm St\, North Haven\, CT\, 06473\, United States
CATEGORIES:external event
ORGANIZER;CN="JB Sports Event Management":MAILTO:john@jbsports.com
GEO:41.3727658;-72.8626251
X-APPLE-STRUCTURED-LOCATION;VALUE=URI;X-ADDRESS=North Haven High School 221 Elm St North Haven CT 06473 United States;X-APPLE-RADIUS=500;X-TITLE=221 Elm St:geo:-72.8626251,41.3727658
END:VEVENT
BEGIN:VEVENT
DTSTART;TZID=America/New_York:20230912T083000
DTEND;TZID=America/New_York:20230912T170000
DTSTAMP:20260422T141159
CREATED:20230628T170258Z
LAST-MODIFIED:20230628T170300Z
UID:10004308-1694507400-1694538000@www.calcagni.com
SUMMARY:New Haven Middlesex Realtors Foundation Golf Tournament
DESCRIPTION:8:30am Registration | 10:00am Shotgun Start | 3:30pm Dinner Banquet \n\n\n\nTo learn more\, register to golf\, or become a sponsor\, visit the Golf Tournament website: https://app.eventcaddy.com/events/NHMR-Foundation
URL:https://www.calcagni.com/event/new-haven-middlesex-realtors-foundation-golf-tournament/
LOCATION:Lyman Orchards Golf Club\, 70 Lyman Road\, Middlefield\, CT\, 06455\, United States
CATEGORIES:external event
ORGANIZER;CN="New Haven Middlesex Realtors":MAILTO:info@nhmrealtors.com
GEO:41.4924327;-72.7106859
X-APPLE-STRUCTURED-LOCATION;VALUE=URI;X-ADDRESS=Lyman Orchards Golf Club 70 Lyman Road Middlefield CT 06455 United States;X-APPLE-RADIUS=500;X-TITLE=70 Lyman Road:geo:-72.7106859,41.4924327
END:VEVENT
BEGIN:VEVENT
DTSTART;TZID=America/New_York:20230909T100000
DTEND;TZID=America/New_York:20230909T160000
DTSTAMP:20260422T141159
CREATED:20230627T161539Z
LAST-MODIFIED:20230627T161541Z
UID:10004305-1694253600-1694275200@www.calcagni.com
SUMMARY:Cheshire Fall Festival
DESCRIPTION:
URL:https://www.calcagni.com/event/cheshire-fall-festival/
LOCATION:Bartlem Recreation Area\, 520 South Main Street\, Cheshire\, CT\, 06492\, United States
CATEGORIES:external event
GEO:41.4409009;-72.8301354
X-APPLE-STRUCTURED-LOCATION;VALUE=URI;X-ADDRESS=Bartlem Recreation Area 520 South Main Street Cheshire CT 06492 United States;X-APPLE-RADIUS=500;X-TITLE=520 South Main Street:geo:-72.8301354,41.4409009
END:VEVENT
BEGIN:VEVENT
DTSTART;TZID=America/New_York:20230724T073000
DTEND;TZID=America/New_York:20230724T170000
DTSTAMP:20260422T141159
CREATED:20230627T160447Z
LAST-MODIFIED:20230627T160449Z
UID:10004304-1690183800-1690218000@www.calcagni.com
SUMMARY:5th Annual Whatever It Takes to Build Great Futures. Golf Classic
DESCRIPTION:https://secure.givelively.org/event/bgcgnh/2023-bgcgnh-golf-classic/2023-bgcgnh-calcagni-real-estate-golf-classic \n\n\n\n \n\n\n\nThe 5th Annual Boys & Girls Clubs of Greater New Haven Calcagni Real Estate Golf Classic Powered by Ulbrich Stainless Steels & Special Metals\, Inc. Tournament player fees includes: full round of 18 holes\, breakfast\, lunch\, beverages along the course\, golf games\, raffle\, sports silent auction and Wrap-up Social party after play ends. \n\n\n\nSchedule of Events7:30 AM Registration & Breakfast9:00 AM Shotgun Scramble 2:00 PM Social Hour/Lunch/Awards (ETA) \n\n\n\nPrices are $250 per golfer. Register and today online. Tournament will be played rain or shine but may be cancelled in extreme weather conditionsRegistrations with fewer than four players will be paired by the tournament committee \n\n\n\nContact John Noonan\, jnoonan@bgcgnh.org  or Call 203-491-1229 for more information
URL:https://www.calcagni.com/event/5th-annual-whatever-it-takes-to-build-great-futures-golf-classic/
LOCATION:Wallingford Country Club\, 195 Long Hill Rd\, Wallingford\, 06492
CATEGORIES:external event
ORGANIZER;CN="Ulbrich Boys & Girls Club of Greater New Haven":MAILTO:jnoonan@bgcgnh.org
END:VEVENT
BEGIN:VEVENT
DTSTART;TZID=America/New_York:20230623T070000
DTEND;TZID=America/New_York:20230623T140000
DTSTAMP:20260422T141159
CREATED:20230615T150727Z
LAST-MODIFIED:20230615T150729Z
UID:10004303-1687503600-1687528800@www.calcagni.com
SUMMARY:East Haven Chamber Scholarship Golf Tournament
DESCRIPTION:The 2023 East Haven Chamber Scholarship Golf Tournament will be hosted at Lyman Orchard Golf Club. For more information and how to sign up\, visit the East Haven Chamber’s website: https://easthavenchamber.com/scholarship-golf-tournament/
URL:https://www.calcagni.com/event/east-haven-chamber-scholarship-golf-tournament/
LOCATION:36 North Main Street Wallingford\, 36 North Main Street\, Wallingford\, CT\, 06492
CATEGORIES:external event
END:VEVENT
BEGIN:VEVENT
DTSTART;TZID=America/New_York:20230621T170000
DTEND;TZID=America/New_York:20230621T210000
DTSTAMP:20260422T141159
CREATED:20230501T123856Z
LAST-MODIFIED:20230615T144907Z
UID:10002871-1687366800-1687381200@www.calcagni.com
SUMMARY:Wing Fest - 1st Annual Wallingford
DESCRIPTION:Have you made plans to join us next Wednesday night for Wing Fest 2023? Join us at the First Congregational Church in Wallingford. Come out and vote in the people’s choice to award titles to your favorite participating restaurants! Sample wings from Cheeks Chicken\, Double Play Cafe\, Elks Club\, Hard Hat\, Knuckleheads\, Tap n Vine\, Tata’s\, and Wood n Tap. Tickets are limited\, so purchase them ahead of time. \n\n\n\nWhat: Wing Fest 2023 \n\n\n\nWhere: First Congregational Church\, 23 South Main St\, Wallingford CT \n\n\n\nWhen: Wednesday\, June 21st\, 5:00-9pm \n\n\n\nTickets are available at Wallingford Center Inc. (129 Center St\, Wallingford) and our Wallingford Office (36 North Main St\, Wallingford) and online at https://wallingfordcenterinc.com/wingfest-2023
URL:https://www.calcagni.com/event/wing-fest-1st-annual-wallingford/
LOCATION:First Congregational Church\, 23 South Main Street\, Wallingford\, Connecticut\, 06492\, United States
CATEGORIES:external event
END:VEVENT
BEGIN:VEVENT
DTSTART;TZID=America/New_York:20230621T080000
DTEND;TZID=America/New_York:20230621T170000
DTSTAMP:20260422T141159
CREATED:20230615T145844Z
LAST-MODIFIED:20230615T145846Z
UID:10004301-1687334400-1687366800@www.calcagni.com
SUMMARY:Paint Cheshire Purple
DESCRIPTION:June is Alzheimer’s Awareness Month (https://www.alz.org/abam/overview.asp). Due to it being the longest day of the year\, on June 21st people across the world will go purple. There are many ways to celebrate. For more information and ideas on how to get involved\, check out the Alzheimer’s Association website: https://act.alz.org/site/TR?fr_id=16164&pg=informational&sid=24695 \n\n\n\nMany towns across Connecticut are participating. So make sure to check out on social media or your local papers if your town\, or any local businesses\, will be hosting any type of special event.
URL:https://www.calcagni.com/event/paint-cheshire-purple/
LOCATION:36 North Main Street Wallingford\, 36 North Main Street\, Wallingford\, CT\, 06492
CATEGORIES:external event
END:VEVENT
BEGIN:VEVENT
DTSTART;TZID=America/New_York:20230615T083000
DTEND;TZID=America/New_York:20230615T163000
DTSTAMP:20260422T141159
CREATED:20230615T150305Z
LAST-MODIFIED:20230615T150420Z
UID:10004302-1686817800-1686846600@www.calcagni.com
SUMMARY:Allied Printing Services Charitable Foundation's 15 Annual Golf Tournament
DESCRIPTION:Hosted at the Tunxis Country Club\, the tournament proceeds go to benefit the Connecticut Children’s medical Center\, Cushing Academy\, Fidelco Guide Dog Foundation\, and the Memorial Sloan Kettering Cancer Center in New York.
URL:https://www.calcagni.com/event/allied-printing-services-charitable-foundations-15-annual-golf-tournament/
LOCATION:36 North Main Street Wallingford\, 36 North Main Street\, Wallingford\, CT\, 06492
CATEGORIES:external event
END:VEVENT
BEGIN:VEVENT
DTSTART;TZID=America/New_York:20230423T070000
DTEND;TZID=America/New_York:20230423T070000
DTSTAMP:20260422T141159
CREATED:20230405T160619Z
LAST-MODIFIED:20230405T160659Z
UID:10002867-1682233200-1682233200@www.calcagni.com
SUMMARY:Cheshire Road Race
DESCRIPTION:The Cheshire Road Race\, hosted by Ion Bank\, is the largest Cheshire community event. The funds raised will be donated to numerous charities\, such as “Abilities Without Boundaries\, Best Buddies CT\, and Cheshire Lions Club”. According to Ion Bank\, since the race began\, “over $1\,000\,000 has been given to these charities\, along with a number of other worthy causes.” \n\n\n\n \n\n\n\n7:00 a.m. Packet pick-up & registration (race day registration will be available)  \n\n\n\n7:00 a.m. Healthy & Active Living Festival \n\n\n\n7:45 a.m.             Kids Fun Runs \n\n\n\n8:30 a.m.             Half Marathon Start  \n\n\n\n8:38 a.m.             5K Start
URL:https://www.calcagni.com/event/cheshire-road-race/
LOCATION:Cheshire High School\, 525 South Main St\, Cheshire\, CT\, 06410\, United States
CATEGORIES:external event
ORGANIZER;CN="Ion Bank":MAILTO:jody@jbsports.com
GEO:41.4896882;-72.9083591
X-APPLE-STRUCTURED-LOCATION;VALUE=URI;X-ADDRESS=Cheshire High School 525 South Main St Cheshire CT 06410 United States;X-APPLE-RADIUS=500;X-TITLE=525 South Main St:geo:-72.9083591,41.4896882
END:VEVENT
BEGIN:VEVENT
DTSTART;TZID=America/New_York:20230325T083000
DTEND;TZID=America/New_York:20230325T140000
DTSTAMP:20260422T141159
CREATED:20230316T142252Z
LAST-MODIFIED:20230316T142328Z
UID:10002866-1679733000-1679752800@www.calcagni.com
SUMMARY:Cheshire Home\, Health and Garden Show
DESCRIPTION:
URL:https://www.calcagni.com/event/cheshire-home-health-and-garden-show/
LOCATION:Cheshire High School\, 525 South Main St\, Cheshire\, CT\, 06410\, United States
CATEGORIES:external event
GEO:41.4896882;-72.9083591
X-APPLE-STRUCTURED-LOCATION;VALUE=URI;X-ADDRESS=Cheshire High School 525 South Main St Cheshire CT 06410 United States;X-APPLE-RADIUS=500;X-TITLE=525 South Main St:geo:-72.9083591,41.4896882
END:VEVENT
BEGIN:VEVENT
DTSTART;TZID=America/New_York:20230305T100000
DTEND;TZID=America/New_York:20230305T170000
DTSTAMP:20260422T141159
CREATED:20230227T203511Z
LAST-MODIFIED:20230227T203513Z
UID:10002865-1678010400-1678035600@www.calcagni.com
SUMMARY:CT Home & Remodeling Show
DESCRIPTION:The Home Builders and Remodelers Association of Central Connecticut (HBRA) is hosting its 75th Connecticut Home & Remodeling Show at the Connecticut Convention Center\, and our Calcagni Real Estate booth #733 will be there to welcome all of our fellow home lovers to chat all things Connecticut real estate! \n\n\n\nAccording to the HBRA\, “Connecticut’s largest and longest running Home and Remodeling Show offers residents of Connecticut and western Massachusetts a one-stop shopping experience in home products and services. You will be able to find a wide variety of home improvement\, building\, and remodeling exhibits from local and national vendors featuring thousands of ideas for your home and yard. Because this is the show that is produced locally by the Home Builders & Remodelers Association of Central Connecticut\, you have the confidence knowing that this home show represents many of our members and the people we do business with everyday.”
URL:https://www.calcagni.com/event/ct-home-remodeling-show-3/
LOCATION:Connecticut Convention Center\, 100 Columbus Boulevard\, Hartford\, Connecticut\, United States
CATEGORIES:external event
END:VEVENT
BEGIN:VEVENT
DTSTART;TZID=America/New_York:20230304T100000
DTEND;TZID=America/New_York:20230304T200000
DTSTAMP:20260422T141159
CREATED:20230227T203427Z
LAST-MODIFIED:20230227T203428Z
UID:10002864-1677924000-1677960000@www.calcagni.com
SUMMARY:CT Home & Remodeling Show
DESCRIPTION:The Home Builders and Remodelers Association of Central Connecticut (HBRA) is hosting its 75th Connecticut Home & Remodeling Show at the Connecticut Convention Center\, and our Calcagni Real Estate booth #733 will be there to welcome all of our fellow home lovers to chat all things Connecticut real estate! \n\n\n\nAccording to the HBRA\, “Connecticut’s largest and longest running Home and Remodeling Show offers residents of Connecticut and western Massachusetts a one-stop shopping experience in home products and services. You will be able to find a wide variety of home improvement\, building\, and remodeling exhibits from local and national vendors featuring thousands of ideas for your home and yard. Because this is the show that is produced locally by the Home Builders & Remodelers Association of Central Connecticut\, you have the confidence knowing that this home show represents many of our members and the people we do business with everyday.”
URL:https://www.calcagni.com/event/ct-home-remodeling-show-2/
LOCATION:Connecticut Convention Center\, 100 Columbus Boulevard\, Hartford\, Connecticut\, United States
CATEGORIES:external event
END:VEVENT
BEGIN:VEVENT
DTSTART;TZID=America/New_York:20230303T150000
DTEND;TZID=America/New_York:20230303T200000
DTSTAMP:20260422T141159
CREATED:20230227T203043Z
LAST-MODIFIED:20230227T203156Z
UID:10002863-1677855600-1677873600@www.calcagni.com
SUMMARY:CT Home & Remodeling Show
DESCRIPTION:The Home Builders and Remodelers Association of Central Connecticut (HBRA) is hosting its 75th Connecticut Home & Remodeling Show at the Connecticut Convention Center\, and our Calcagni Real Estate booth #733 will be there to welcome all of our fellow home lovers to chat all things Connecticut real estate! \n\n\n\nAccording to the HBRA\, “Connecticut’s largest and longest running Home and Remodeling Show offers residents of Connecticut and western Massachusetts a one-stop shopping experience in home products and services. You will be able to find a wide variety of home improvement\, building\, and remodeling exhibits from local and national vendors featuring thousands of ideas for your home and yard. Because this is the show that is produced locally by the Home Builders & Remodelers Association of Central Connecticut\, you have the confidence knowing that this home show represents many of our members and the people we do business with everyday.”
URL:https://www.calcagni.com/event/ct-home-remodeling-show/
LOCATION:Connecticut Convention Center\, 100 Columbus Boulevard\, Hartford\, Connecticut\, United States
CATEGORIES:external event
END:VEVENT
END:VCALENDAR