BEGIN:VCALENDAR
VERSION:2.0
PRODID:-//Calcagni Real Estate - ECPv6.15.18//NONSGML v1.0//EN
CALSCALE:GREGORIAN
METHOD:PUBLISH
X-WR-CALNAME:Calcagni Real Estate
X-ORIGINAL-URL:https://www.calcagni.com
X-WR-CALDESC:Events for Calcagni Real Estate
REFRESH-INTERVAL;VALUE=DURATION:PT1H
X-Robots-Tag:noindex
X-PUBLISHED-TTL:PT1H
BEGIN:VTIMEZONE
TZID:America/New_York
BEGIN:DAYLIGHT
TZOFFSETFROM:-0500
TZOFFSETTO:-0400
TZNAME:EDT
DTSTART:20250309T070000
END:DAYLIGHT
BEGIN:STANDARD
TZOFFSETFROM:-0400
TZOFFSETTO:-0500
TZNAME:EST
DTSTART:20251102T060000
END:STANDARD
BEGIN:DAYLIGHT
TZOFFSETFROM:-0500
TZOFFSETTO:-0400
TZNAME:EDT
DTSTART:20260308T070000
END:DAYLIGHT
BEGIN:STANDARD
TZOFFSETFROM:-0400
TZOFFSETTO:-0500
TZNAME:EST
DTSTART:20261101T060000
END:STANDARD
BEGIN:DAYLIGHT
TZOFFSETFROM:-0500
TZOFFSETTO:-0400
TZNAME:EDT
DTSTART:20270314T070000
END:DAYLIGHT
BEGIN:STANDARD
TZOFFSETFROM:-0400
TZOFFSETTO:-0500
TZNAME:EST
DTSTART:20271107T060000
END:STANDARD
END:VTIMEZONE
BEGIN:VEVENT
DTSTART;TZID=America/New_York:20260108T113000
DTEND;TZID=America/New_York:20260108T133000
DTSTAMP:20260421T210311
CREATED:20260105T184133Z
LAST-MODIFIED:20260105T184133Z
UID:10006414-1767871800-1767879000@www.calcagni.com
SUMMARY:NHMR – “Housing & The Silver Tsunami Demographic Age Shift” Lunch and learn
DESCRIPTION:January 8th  11:30-1:30 NHMR – “Housing & The Silver Tsunami Demographic Age Shift” Lunch and learn – Chatham Place at May Wade 138 Clinton Ave New Haven – register: https://nhmrportal.ramcoams.net/Meetings/Registration/MeetingDetails.aspx?mid=f0a13a74-ca3f-424f-a7a4-86be423e3a1c
URL:https://www.calcagni.com/event/nhmr-housing-the-silver-tsunami-demographic-age-shift-lunch-and-learn/
CATEGORIES:external event
ORGANIZER;CN="New Haven Middlesex Realtors":MAILTO:info@nhmrealtors.com
END:VEVENT
END:VCALENDAR