BEGIN:VCALENDAR
VERSION:2.0
PRODID:-//Calcagni Real Estate - ECPv6.15.18//NONSGML v1.0//EN
CALSCALE:GREGORIAN
METHOD:PUBLISH
X-WR-CALNAME:Calcagni Real Estate
X-ORIGINAL-URL:https://www.calcagni.com
X-WR-CALDESC:Events for Calcagni Real Estate
REFRESH-INTERVAL;VALUE=DURATION:PT1H
X-Robots-Tag:noindex
X-PUBLISHED-TTL:PT1H
BEGIN:VTIMEZONE
TZID:America/New_York
BEGIN:DAYLIGHT
TZOFFSETFROM:-0500
TZOFFSETTO:-0400
TZNAME:EDT
DTSTART:20240310T070000
END:DAYLIGHT
BEGIN:STANDARD
TZOFFSETFROM:-0400
TZOFFSETTO:-0500
TZNAME:EST
DTSTART:20241103T060000
END:STANDARD
BEGIN:DAYLIGHT
TZOFFSETFROM:-0500
TZOFFSETTO:-0400
TZNAME:EDT
DTSTART:20250309T070000
END:DAYLIGHT
BEGIN:STANDARD
TZOFFSETFROM:-0400
TZOFFSETTO:-0500
TZNAME:EST
DTSTART:20251102T060000
END:STANDARD
BEGIN:DAYLIGHT
TZOFFSETFROM:-0500
TZOFFSETTO:-0400
TZNAME:EDT
DTSTART:20260308T070000
END:DAYLIGHT
BEGIN:STANDARD
TZOFFSETFROM:-0400
TZOFFSETTO:-0500
TZNAME:EST
DTSTART:20261101T060000
END:STANDARD
END:VTIMEZONE
BEGIN:VEVENT
DTSTART;TZID=America/New_York:20250913T100000
DTEND;TZID=America/New_York:20250913T160000
DTSTAMP:20260422T030525
CREATED:20250708T130557Z
LAST-MODIFIED:20250708T130557Z
UID:10006399-1757757600-1757779200@www.calcagni.com
SUMMARY:Cheshire Fall Festival
DESCRIPTION:Cheshire Fall Festival\nBartlem Park \n9/13/25\n10 am – 4 pm
URL:https://www.calcagni.com/event/cheshire-fall-festival-3/
LOCATION:Bartlem Recreation Area\, 520 South Main Street\, Cheshire\, CT\, 06492\, United States
CATEGORIES:external event
GEO:41.4409009;-72.8301354
X-APPLE-STRUCTURED-LOCATION;VALUE=URI;X-ADDRESS=Bartlem Recreation Area 520 South Main Street Cheshire CT 06492 United States;X-APPLE-RADIUS=500;X-TITLE=520 South Main Street:geo:-72.8301354,41.4409009
END:VEVENT
END:VCALENDAR