BEGIN:VCALENDAR
VERSION:2.0
PRODID:-//Calcagni Real Estate - ECPv6.15.18//NONSGML v1.0//EN
CALSCALE:GREGORIAN
METHOD:PUBLISH
X-ORIGINAL-URL:https://www.calcagni.com
X-WR-CALDESC:Events for Calcagni Real Estate
REFRESH-INTERVAL;VALUE=DURATION:PT1H
X-Robots-Tag:noindex
X-PUBLISHED-TTL:PT1H
BEGIN:VTIMEZONE
TZID:America/New_York
BEGIN:DAYLIGHT
TZOFFSETFROM:-0500
TZOFFSETTO:-0400
TZNAME:EDT
DTSTART:20240310T070000
END:DAYLIGHT
BEGIN:STANDARD
TZOFFSETFROM:-0400
TZOFFSETTO:-0500
TZNAME:EST
DTSTART:20241103T060000
END:STANDARD
BEGIN:DAYLIGHT
TZOFFSETFROM:-0500
TZOFFSETTO:-0400
TZNAME:EDT
DTSTART:20250309T070000
END:DAYLIGHT
BEGIN:STANDARD
TZOFFSETFROM:-0400
TZOFFSETTO:-0500
TZNAME:EST
DTSTART:20251102T060000
END:STANDARD
BEGIN:DAYLIGHT
TZOFFSETFROM:-0500
TZOFFSETTO:-0400
TZNAME:EDT
DTSTART:20260308T070000
END:DAYLIGHT
BEGIN:STANDARD
TZOFFSETFROM:-0400
TZOFFSETTO:-0500
TZNAME:EST
DTSTART:20261101T060000
END:STANDARD
END:VTIMEZONE
BEGIN:VEVENT
DTSTART;TZID=America/New_York:20250605T093000
DTEND;TZID=America/New_York:20250605T103000
DTSTAMP:20260422T175715
CREATED:20250528T132154Z
LAST-MODIFIED:20250528T132154Z
UID:10006389-1749115800-1749119400@www.calcagni.com
SUMMARY:Law Enforcement Torch Run for Special Olympics Connecticut
DESCRIPTION:June 5 –- Law Enforcement Torch Run for Special Olympics Connecticut- 9:39 AM runners will be going by Cheshire office – we will hand out waters to the runners
URL:https://www.calcagni.com/event/law-enforcement-torch-run-for-special-olympics-connecticut/
LOCATION:Cheshire Office\, 975 South Main Street\, Cheshire\, Connecticut\, 06410\, United States
CATEGORIES:external event
ORGANIZER;CN="Calcagni Real Estate":MAILTO:customerservice@calcagni.com
END:VEVENT
END:VCALENDAR