BEGIN:VCALENDAR
VERSION:2.0
PRODID:-//Calcagni Real Estate - ECPv6.15.18//NONSGML v1.0//EN
CALSCALE:GREGORIAN
METHOD:PUBLISH
X-ORIGINAL-URL:https://www.calcagni.com
X-WR-CALDESC:Events for Calcagni Real Estate
REFRESH-INTERVAL;VALUE=DURATION:PT1H
X-Robots-Tag:noindex
X-PUBLISHED-TTL:PT1H
BEGIN:VTIMEZONE
TZID:America/New_York
BEGIN:DAYLIGHT
TZOFFSETFROM:-0500
TZOFFSETTO:-0400
TZNAME:EDT
DTSTART:20230312T070000
END:DAYLIGHT
BEGIN:STANDARD
TZOFFSETFROM:-0400
TZOFFSETTO:-0500
TZNAME:EST
DTSTART:20231105T060000
END:STANDARD
BEGIN:DAYLIGHT
TZOFFSETFROM:-0500
TZOFFSETTO:-0400
TZNAME:EDT
DTSTART:20240310T070000
END:DAYLIGHT
BEGIN:STANDARD
TZOFFSETFROM:-0400
TZOFFSETTO:-0500
TZNAME:EST
DTSTART:20241103T060000
END:STANDARD
BEGIN:DAYLIGHT
TZOFFSETFROM:-0500
TZOFFSETTO:-0400
TZNAME:EDT
DTSTART:20250309T070000
END:DAYLIGHT
BEGIN:STANDARD
TZOFFSETFROM:-0400
TZOFFSETTO:-0500
TZNAME:EST
DTSTART:20251102T060000
END:STANDARD
END:VTIMEZONE
BEGIN:VEVENT
DTSTART;TZID=America/New_York:20240919T083000
DTEND;TZID=America/New_York:20240919T170000
DTSTAMP:20260423T183917
CREATED:20240312T161646Z
LAST-MODIFIED:20240312T161648Z
UID:10006333-1726734600-1726765200@www.calcagni.com
SUMMARY:NHMR Foundation Golf Tournament
DESCRIPTION:
URL:https://www.calcagni.com/event/nhmr-foundation-golf-tournament/
LOCATION:Lyman Orchards Golf Club\, 70 Lyman Road\, Middlefield\, CT\, 06455\, United States
CATEGORIES:external event
ORGANIZER;CN="New Haven Middlesex Realtors":MAILTO:info@nhmrealtors.com
GEO:41.4924327;-72.7106859
X-APPLE-STRUCTURED-LOCATION;VALUE=URI;X-ADDRESS=Lyman Orchards Golf Club 70 Lyman Road Middlefield CT 06455 United States;X-APPLE-RADIUS=500;X-TITLE=70 Lyman Road:geo:-72.7106859,41.4924327
END:VEVENT
END:VCALENDAR