BEGIN:VCALENDAR
VERSION:2.0
PRODID:-//Calcagni Real Estate - ECPv6.15.18//NONSGML v1.0//EN
CALSCALE:GREGORIAN
METHOD:PUBLISH
X-ORIGINAL-URL:https://www.calcagni.com
X-WR-CALDESC:Events for Calcagni Real Estate
REFRESH-INTERVAL;VALUE=DURATION:PT1H
X-Robots-Tag:noindex
X-PUBLISHED-TTL:PT1H
BEGIN:VTIMEZONE
TZID:America/New_York
BEGIN:DAYLIGHT
TZOFFSETFROM:-0500
TZOFFSETTO:-0400
TZNAME:EDT
DTSTART:20240310T070000
END:DAYLIGHT
BEGIN:STANDARD
TZOFFSETFROM:-0400
TZOFFSETTO:-0500
TZNAME:EST
DTSTART:20241103T060000
END:STANDARD
BEGIN:DAYLIGHT
TZOFFSETFROM:-0500
TZOFFSETTO:-0400
TZNAME:EDT
DTSTART:20250309T070000
END:DAYLIGHT
BEGIN:STANDARD
TZOFFSETFROM:-0400
TZOFFSETTO:-0500
TZNAME:EST
DTSTART:20251102T060000
END:STANDARD
BEGIN:DAYLIGHT
TZOFFSETFROM:-0500
TZOFFSETTO:-0400
TZNAME:EDT
DTSTART:20260308T070000
END:DAYLIGHT
BEGIN:STANDARD
TZOFFSETFROM:-0400
TZOFFSETTO:-0500
TZNAME:EST
DTSTART:20261101T060000
END:STANDARD
END:VTIMEZONE
BEGIN:VEVENT
DTSTART;TZID=America/New_York:20250809T100000
DTEND;TZID=America/New_York:20250809T140000
DTSTAMP:20260422T045926
CREATED:20250708T130352Z
LAST-MODIFIED:20250708T130352Z
UID:10006398-1754733600-1754748000@www.calcagni.com
SUMMARY:Jurassic Community Family Day
DESCRIPTION:The Coalition For A Better Wallingford presents Jurassic Community Family Day! \nDate: Saturday\, August 9th\, 2025\nTime: 10:00 AM – 2:00 PM\nLocation: Zion Lutheran Church Grounds at 235 Pond Hill Rd\, Wallingford\, CT 06492 \nFREE!\nMusic\, Games\, Food & Ice Cream\, Free Giveaways\, Raffles\, Bouncy Houses\, Sensory Tent\, and more.
URL:https://www.calcagni.com/event/jurassic-community-family-day/
CATEGORIES:external event
END:VEVENT
BEGIN:VEVENT
DTSTART;TZID=America/New_York:20250811T080000
DTEND;TZID=America/New_York:20250811T170000
DTSTAMP:20260422T045926
CREATED:20250630T180401Z
LAST-MODIFIED:20250630T180401Z
UID:10006394-1754899200-1754931600@www.calcagni.com
SUMMARY:Quinnipiac Chamber Golf Classic
DESCRIPTION:
URL:https://www.calcagni.com/event/quinnipiac-chamber-golf-classic/
CATEGORIES:external event
ORGANIZER;CN="Quinnipiac Chamber of Commerce":MAILTO:gary@quinncham.com
END:VEVENT
BEGIN:VEVENT
DTSTART;TZID=America/New_York:20250820T180000
DTEND;TZID=America/New_York:20250820T220000
DTSTAMP:20260422T045926
CREATED:20250812T180632Z
LAST-MODIFIED:20250812T180632Z
UID:10006404-1755712800-1755727200@www.calcagni.com
SUMMARY:East Haven Chamber Lobsterpalooza
DESCRIPTION:August 20th – East Haven Chamber Lobsterpalooza Anthony’s Ocearnview 6pm-10pm –  https://www.easthavenchamber.com/events/eventcalendar
URL:https://www.calcagni.com/event/east-haven-chamber-lobsterpalooza/
CATEGORIES:external event
END:VEVENT
BEGIN:VEVENT
DTSTART;TZID=America/New_York:20250826T173000
DTEND;TZID=America/New_York:20250826T193000
DTSTAMP:20260422T045926
CREATED:20250812T180727Z
LAST-MODIFIED:20250819T161702Z
UID:10006405-1756229400-1756236600@www.calcagni.com
SUMMARY:Early Childhood Collaborative of Southington Grand Opening
DESCRIPTION:August 26th: Early Childhood Collaborative of Southington is having their grand opening. Rachel is a director and Calcagni is a supporter \nRSVP: https://www.eventbrite.com/e/early-childhood-collaborative-of-southingtons-open-house-tickets-1560423652149.
URL:https://www.calcagni.com/event/early-childhood-collaborative-of-southington-grand-opening/
CATEGORIES:external event
END:VEVENT
BEGIN:VEVENT
DTSTART;TZID=America/New_York:20250828T160000
DTEND;TZID=America/New_York:20250828T200000
DTSTAMP:20260422T045926
CREATED:20250729T142801Z
LAST-MODIFIED:20250729T142801Z
UID:10006400-1756396800-1756411200@www.calcagni.com
SUMMARY:HBRA Annual Lobster Fest
DESCRIPTION:HBRA of the CT River Region – Annual Lobster Fest\nWestbrook Elks Club\n142 Seaside Ave\nWestbrook\n4 pm – 8 pm
URL:https://www.calcagni.com/event/hbra-annual-lobster-fest/
CATEGORIES:external event
END:VEVENT
END:VCALENDAR