BEGIN:VCALENDAR
VERSION:2.0
PRODID:-//Calcagni Real Estate - ECPv6.15.18//NONSGML v1.0//EN
CALSCALE:GREGORIAN
METHOD:PUBLISH
X-WR-CALNAME:Calcagni Real Estate
X-ORIGINAL-URL:https://www.calcagni.com
X-WR-CALDESC:Events for Calcagni Real Estate
REFRESH-INTERVAL;VALUE=DURATION:PT1H
X-Robots-Tag:noindex
X-PUBLISHED-TTL:PT1H
BEGIN:VTIMEZONE
TZID:America/New_York
BEGIN:DAYLIGHT
TZOFFSETFROM:-0500
TZOFFSETTO:-0400
TZNAME:EDT
DTSTART:20240310T070000
END:DAYLIGHT
BEGIN:STANDARD
TZOFFSETFROM:-0400
TZOFFSETTO:-0500
TZNAME:EST
DTSTART:20241103T060000
END:STANDARD
BEGIN:DAYLIGHT
TZOFFSETFROM:-0500
TZOFFSETTO:-0400
TZNAME:EDT
DTSTART:20250309T070000
END:DAYLIGHT
BEGIN:STANDARD
TZOFFSETFROM:-0400
TZOFFSETTO:-0500
TZNAME:EST
DTSTART:20251102T060000
END:STANDARD
BEGIN:DAYLIGHT
TZOFFSETFROM:-0500
TZOFFSETTO:-0400
TZNAME:EDT
DTSTART:20260308T070000
END:DAYLIGHT
BEGIN:STANDARD
TZOFFSETFROM:-0400
TZOFFSETTO:-0500
TZNAME:EST
DTSTART:20261101T060000
END:STANDARD
END:VTIMEZONE
BEGIN:VEVENT
DTSTART;TZID=America/New_York:20250413T080000
DTEND;TZID=America/New_York:20250413T170000
DTSTAMP:20260422T140510
CREATED:20250116T143529Z
LAST-MODIFIED:20250116T143529Z
UID:10006367-1744531200-1744563600@www.calcagni.com
SUMMARY:Cheshire ION Bank Road Race/5K
DESCRIPTION:
URL:https://www.calcagni.com/event/cheshire-ion-bank-road-race-5k/
LOCATION:Cheshire High School\, 525 South Main St\, Cheshire\, CT\, 06410\, United States
CATEGORIES:external event
ORGANIZER;CN="Ion Bank":MAILTO:jody@jbsports.com
GEO:41.4896882;-72.9083591
X-APPLE-STRUCTURED-LOCATION;VALUE=URI;X-ADDRESS=Cheshire High School 525 South Main St Cheshire CT 06410 United States;X-APPLE-RADIUS=500;X-TITLE=525 South Main St:geo:-72.9083591,41.4896882
END:VEVENT
BEGIN:VEVENT
DTSTART;TZID=America/New_York:20250423T180000
DTEND;TZID=America/New_York:20250423T210000
DTSTAMP:20260422T140510
CREATED:20250414T194321Z
LAST-MODIFIED:20250414T194321Z
UID:10006387-1745431200-1745442000@www.calcagni.com
SUMMARY:Boys & Girls Club fundraiser
DESCRIPTION:Boys & Girls Clubs of Greater New Haven – fundraiser Golf Cove in North Haven
URL:https://www.calcagni.com/event/boys-girls-club-fundraiser/
CATEGORIES:external event
ORGANIZER;CN="Ulbrich Boys & Girls Club of Greater New Haven":MAILTO:jnoonan@bgcgnh.org
END:VEVENT
BEGIN:VEVENT
DTSTART;TZID=America/New_York:20250424T180000
DTEND;TZID=America/New_York:20250424T210000
DTSTAMP:20260422T140510
CREATED:20250203T163932Z
LAST-MODIFIED:20250203T163932Z
UID:10006375-1745517600-1745528400@www.calcagni.com
SUMMARY:HBRA Economic & Political Update
DESCRIPTION:HBRA – Economic & Political Update 6-9 The River House 55 Bridge Rd\, Haddam \nhttps://member.hbracentralct.com/events/details/economic-political-update-1484
URL:https://www.calcagni.com/event/hbra-economic-political-update/
CATEGORIES:external event
END:VEVENT
END:VCALENDAR