BEGIN:VCALENDAR
VERSION:2.0
PRODID:-//Calcagni Real Estate - ECPv6.15.18//NONSGML v1.0//EN
CALSCALE:GREGORIAN
METHOD:PUBLISH
X-WR-CALNAME:Calcagni Real Estate
X-ORIGINAL-URL:https://www.calcagni.com
X-WR-CALDESC:Events for Calcagni Real Estate
REFRESH-INTERVAL;VALUE=DURATION:PT1H
X-Robots-Tag:noindex
X-PUBLISHED-TTL:PT1H
BEGIN:VTIMEZONE
TZID:America/New_York
BEGIN:DAYLIGHT
TZOFFSETFROM:-0500
TZOFFSETTO:-0400
TZNAME:EDT
DTSTART:20230312T070000
END:DAYLIGHT
BEGIN:STANDARD
TZOFFSETFROM:-0400
TZOFFSETTO:-0500
TZNAME:EST
DTSTART:20231105T060000
END:STANDARD
BEGIN:DAYLIGHT
TZOFFSETFROM:-0500
TZOFFSETTO:-0400
TZNAME:EDT
DTSTART:20240310T070000
END:DAYLIGHT
BEGIN:STANDARD
TZOFFSETFROM:-0400
TZOFFSETTO:-0500
TZNAME:EST
DTSTART:20241103T060000
END:STANDARD
BEGIN:DAYLIGHT
TZOFFSETFROM:-0500
TZOFFSETTO:-0400
TZNAME:EDT
DTSTART:20250309T070000
END:DAYLIGHT
BEGIN:STANDARD
TZOFFSETFROM:-0400
TZOFFSETTO:-0500
TZNAME:EST
DTSTART:20251102T060000
END:STANDARD
END:VTIMEZONE
BEGIN:VEVENT
DTSTART;TZID=America/New_York:20241107T113000
DTEND;TZID=America/New_York:20241107T130000
DTSTAMP:20260423T073835
CREATED:20241022T191256Z
LAST-MODIFIED:20241022T191256Z
UID:10006354-1730979000-1730984400@www.calcagni.com
SUMMARY:Middlesex Real Estate Council – Minimize Your Risk\, Maximize Your Earnings Lunch and Learn
DESCRIPTION:Middlesex Real Estate Council – Minimize Your Risk\, Maximize Your Earnings Lunch and Learn 11:30 – 1:00pm – Tiger Home Inspections recognizing the top 8 property conditions that most often lead to disputes. https://business.middlesexchamber.com/events/details/real-estate-council-lunch-learn-minimize-your-risk-maximize-your-earnings-29900?calendarMonth=2024-11-01
URL:https://www.calcagni.com/event/middlesex-real-estate-council-minimize-your-risk-maximize-your-earnings-lunch-and-learn/
CATEGORIES:external event
END:VEVENT
BEGIN:VEVENT
DTSTART;TZID=America/New_York:20241113T180000
DTEND;TZID=America/New_York:20241113T210000
DTSTAMP:20260423T073835
CREATED:20240312T162757Z
LAST-MODIFIED:20240312T162759Z
UID:10006336-1731520800-1731531600@www.calcagni.com
SUMMARY:HOBI Award Dinner
DESCRIPTION:
URL:https://www.calcagni.com/event/hobi-award-dinner/
CATEGORIES:external event
END:VEVENT
END:VCALENDAR