BEGIN:VCALENDAR
VERSION:2.0
PRODID:-//Calcagni Real Estate - ECPv6.15.18//NONSGML v1.0//EN
CALSCALE:GREGORIAN
METHOD:PUBLISH
X-ORIGINAL-URL:https://www.calcagni.com
X-WR-CALDESC:Events for Calcagni Real Estate
REFRESH-INTERVAL;VALUE=DURATION:PT1H
X-Robots-Tag:noindex
X-PUBLISHED-TTL:PT1H
BEGIN:VTIMEZONE
TZID:America/New_York
BEGIN:DAYLIGHT
TZOFFSETFROM:-0500
TZOFFSETTO:-0400
TZNAME:EDT
DTSTART:20230312T070000
END:DAYLIGHT
BEGIN:STANDARD
TZOFFSETFROM:-0400
TZOFFSETTO:-0500
TZNAME:EST
DTSTART:20231105T060000
END:STANDARD
BEGIN:DAYLIGHT
TZOFFSETFROM:-0500
TZOFFSETTO:-0400
TZNAME:EDT
DTSTART:20240310T070000
END:DAYLIGHT
BEGIN:STANDARD
TZOFFSETFROM:-0400
TZOFFSETTO:-0500
TZNAME:EST
DTSTART:20241103T060000
END:STANDARD
BEGIN:DAYLIGHT
TZOFFSETFROM:-0500
TZOFFSETTO:-0400
TZNAME:EDT
DTSTART:20250309T070000
END:DAYLIGHT
BEGIN:STANDARD
TZOFFSETFROM:-0400
TZOFFSETTO:-0500
TZNAME:EST
DTSTART:20251102T060000
END:STANDARD
END:VTIMEZONE
BEGIN:VEVENT
DTSTART;TZID=America/New_York:20241005T100000
DTEND;TZID=America/New_York:20241005T180000
DTSTAMP:20260423T130641
CREATED:20240229T163751Z
LAST-MODIFIED:20240229T163753Z
UID:10006322-1728122400-1728151200@www.calcagni.com
SUMMARY:Celebrate Wallingford
DESCRIPTION:
URL:https://www.calcagni.com/event/celebrate-wallingford-4/
LOCATION:36 North Main Street Wallingford\, 36 North Main Street\, Wallingford\, CT\, 06492
CATEGORIES:external event
ORGANIZER;CN="Wallingford Center Inc":MAILTO:info@wallingfordcenterinc.com
END:VEVENT
BEGIN:VEVENT
DTSTART;TZID=America/New_York:20241006T110000
DTEND;TZID=America/New_York:20241006T170000
DTSTAMP:20260423T130641
CREATED:20240229T163731Z
LAST-MODIFIED:20240229T163733Z
UID:10006321-1728212400-1728234000@www.calcagni.com
SUMMARY:Celebrate Wallingford
DESCRIPTION:
URL:https://www.calcagni.com/event/celebrate-wallingford-3/
LOCATION:36 North Main Street Wallingford\, 36 North Main Street\, Wallingford\, CT\, 06492
CATEGORIES:external event
ORGANIZER;CN="Wallingford Center Inc":MAILTO:info@wallingfordcenterinc.com
END:VEVENT
BEGIN:VEVENT
DTSTART;TZID=America/New_York:20241013T080000
DTEND;TZID=America/New_York:20241013T080000
DTSTAMP:20260423T130641
CREATED:20240312T173441Z
LAST-MODIFIED:20240312T173443Z
UID:10006342-1728806400-1728806400@www.calcagni.com
SUMMARY:Benhaven Walk for Autism
DESCRIPTION:
URL:https://www.calcagni.com/event/benhaven-walk-for-autism/
LOCATION:Lighthouse Park\, 2 Lighthouse Rd\, New Haven\, Connecticut\, 06512\, United States
CATEGORIES:external event
END:VEVENT
BEGIN:VEVENT
DTSTART;TZID=America/New_York:20241023T113000
DTEND;TZID=America/New_York:20241023T130000
DTSTAMP:20260423T130641
CREATED:20241022T190842Z
LAST-MODIFIED:20241022T190842Z
UID:10006351-1729683000-1729688400@www.calcagni.com
SUMMARY:NHMR Lunch and Learn – Understanding Renewable Energy Made Easy
DESCRIPTION:In person and Virtual – NHMR Lunch and Learn – Understanding Renewable Energy Made Easy – https://nhmrportal.ramcoams.net/Meetings/Registration/MeetingDetails.aspx?mid=741efd4e-f1f2-4ce8-9647-1bb18f5f8cdc
URL:https://www.calcagni.com/event/nhmr-lunch-and-learn-understanding-renewable-energy-made-easy/
CATEGORIES:external event
ORGANIZER;CN="New Haven Middlesex Realtors":MAILTO:info@nhmrealtors.com
END:VEVENT
BEGIN:VEVENT
DTSTART;TZID=America/New_York:20241029T120000
DTEND;TZID=America/New_York:20241029T150000
DTSTAMP:20260423T130641
CREATED:20241022T190954Z
LAST-MODIFIED:20241022T190954Z
UID:10006352-1730203200-1730214000@www.calcagni.com
SUMMARY:NHMR Annual Trade Show
DESCRIPTION:NHMR Annual Trade Show at Woodwinds in Branford 12-3
URL:https://www.calcagni.com/event/nhmr-annual-trade-show/
CATEGORIES:external event
ORGANIZER;CN="New Haven Middlesex Realtors":MAILTO:info@nhmrealtors.com
END:VEVENT
BEGIN:VEVENT
DTSTART;TZID=America/New_York:20241030T170000
DTEND;TZID=America/New_York:20241030T190000
DTSTAMP:20260423T130641
CREATED:20241022T191059Z
LAST-MODIFIED:20241022T191059Z
UID:10006353-1730307600-1730314800@www.calcagni.com
SUMMARY:NHMR - YPN at Back 9 Social
DESCRIPTION:NHMR – YPN 5-7 at Back 9 Social in Wallingford
URL:https://www.calcagni.com/event/nhmr-ypn-at-back-9-social/
CATEGORIES:external event
ORGANIZER;CN="New Haven Middlesex Realtors":MAILTO:info@nhmrealtors.com
END:VEVENT
END:VCALENDAR