BEGIN:VCALENDAR
VERSION:2.0
PRODID:-//Calcagni Real Estate - ECPv6.15.18//NONSGML v1.0//EN
CALSCALE:GREGORIAN
METHOD:PUBLISH
X-WR-CALNAME:Calcagni Real Estate
X-ORIGINAL-URL:https://www.calcagni.com
X-WR-CALDESC:Events for Calcagni Real Estate
REFRESH-INTERVAL;VALUE=DURATION:PT1H
X-Robots-Tag:noindex
X-PUBLISHED-TTL:PT1H
BEGIN:VTIMEZONE
TZID:America/New_York
BEGIN:DAYLIGHT
TZOFFSETFROM:-0500
TZOFFSETTO:-0400
TZNAME:EDT
DTSTART:20240310T070000
END:DAYLIGHT
BEGIN:STANDARD
TZOFFSETFROM:-0400
TZOFFSETTO:-0500
TZNAME:EST
DTSTART:20241103T060000
END:STANDARD
BEGIN:DAYLIGHT
TZOFFSETFROM:-0500
TZOFFSETTO:-0400
TZNAME:EDT
DTSTART:20250309T070000
END:DAYLIGHT
BEGIN:STANDARD
TZOFFSETFROM:-0400
TZOFFSETTO:-0500
TZNAME:EST
DTSTART:20251102T060000
END:STANDARD
BEGIN:DAYLIGHT
TZOFFSETFROM:-0500
TZOFFSETTO:-0400
TZNAME:EDT
DTSTART:20260308T070000
END:DAYLIGHT
BEGIN:STANDARD
TZOFFSETFROM:-0400
TZOFFSETTO:-0500
TZNAME:EST
DTSTART:20261101T060000
END:STANDARD
END:VTIMEZONE
BEGIN:VEVENT
DTSTART;TZID=America/New_York:20250918T090000
DTEND;TZID=America/New_York:20250918T170000
DTSTAMP:20260421T230904
CREATED:20250528T133430Z
LAST-MODIFIED:20250708T130930Z
UID:10006392-1758186000-1758214800@www.calcagni.com
SUMMARY:NHMR Golf Tournament
DESCRIPTION:Lyman Orchards Golf Club\n70 Lyman Rd\nMiddlefield \n9 am – registration\n10 am – shotgun\n2 pm – 1 hour golf clinic\n3:30 pm – buffet
URL:https://www.calcagni.com/event/nhmr-golf-tournament/
CATEGORIES:external event
ORGANIZER;CN="New Haven Middlesex Realtors":MAILTO:info@nhmrealtors.com
END:VEVENT
BEGIN:VEVENT
DTSTART;TZID=America/New_York:20250918T173000
DTEND;TZID=America/New_York:20250918T210000
DTSTAMP:20260421T230904
CREATED:20250729T142959Z
LAST-MODIFIED:20250729T142959Z
UID:10006402-1758216600-1758229200@www.calcagni.com
SUMMARY:Corks & Forks Fundraising Event
DESCRIPTION:Corks & Forks Fundraising Event to benefit the Gaylord Arts Fund\nBrooker South Lawn\nGaylord Hospital\n50 Gaylord Farm Rd\nWallingford \n5:30 pm – 9:00 pm
URL:https://www.calcagni.com/event/corks-forks-fundraising-event/
CATEGORIES:external event
END:VEVENT
END:VCALENDAR