BEGIN:VCALENDAR
VERSION:2.0
PRODID:-//Calcagni Real Estate - ECPv6.15.18//NONSGML v1.0//EN
CALSCALE:GREGORIAN
METHOD:PUBLISH
X-ORIGINAL-URL:https://www.calcagni.com
X-WR-CALDESC:Events for Calcagni Real Estate
REFRESH-INTERVAL;VALUE=DURATION:PT1H
X-Robots-Tag:noindex
X-PUBLISHED-TTL:PT1H
BEGIN:VTIMEZONE
TZID:America/New_York
BEGIN:DAYLIGHT
TZOFFSETFROM:-0500
TZOFFSETTO:-0400
TZNAME:EDT
DTSTART:20240310T070000
END:DAYLIGHT
BEGIN:STANDARD
TZOFFSETFROM:-0400
TZOFFSETTO:-0500
TZNAME:EST
DTSTART:20241103T060000
END:STANDARD
BEGIN:DAYLIGHT
TZOFFSETFROM:-0500
TZOFFSETTO:-0400
TZNAME:EDT
DTSTART:20250309T070000
END:DAYLIGHT
BEGIN:STANDARD
TZOFFSETFROM:-0400
TZOFFSETTO:-0500
TZNAME:EST
DTSTART:20251102T060000
END:STANDARD
BEGIN:DAYLIGHT
TZOFFSETFROM:-0500
TZOFFSETTO:-0400
TZNAME:EDT
DTSTART:20260308T070000
END:DAYLIGHT
BEGIN:STANDARD
TZOFFSETFROM:-0400
TZOFFSETTO:-0500
TZNAME:EST
DTSTART:20261101T060000
END:STANDARD
END:VTIMEZONE
BEGIN:VEVENT
DTSTART;TZID=America/New_York:20250715T100000
DTEND;TZID=America/New_York:20250715T181500
DTSTAMP:20260422T064147
CREATED:20250414T131357Z
LAST-MODIFIED:20250414T131357Z
UID:10006381-1752573600-1752603300@www.calcagni.com
SUMMARY:Cheshire Chamber of Commerce 41st Annual Golf Classic
DESCRIPTION:Cheshire Chamber of Commerce 41st Annual Golf Classic \nJuly 15\, 2025 10:00 am – 6:15 pm \nThe Wallingford Country Club\n195 Long Hill Road\nWallingford
URL:https://www.calcagni.com/event/cheshire-chamber-of-commerce-41st-annual-golf-classic/
LOCATION:Wallingford Country Club\, 195 Long Hill Rd\, Wallingford\, 06492
CATEGORIES:external event
END:VEVENT
END:VCALENDAR