BEGIN:VCALENDAR
VERSION:2.0
PRODID:-//Calcagni Real Estate - ECPv6.15.18//NONSGML v1.0//EN
CALSCALE:GREGORIAN
METHOD:PUBLISH
X-ORIGINAL-URL:https://www.calcagni.com
X-WR-CALDESC:Events for Calcagni Real Estate
REFRESH-INTERVAL;VALUE=DURATION:PT1H
X-Robots-Tag:noindex
X-PUBLISHED-TTL:PT1H
BEGIN:VTIMEZONE
TZID:America/New_York
BEGIN:DAYLIGHT
TZOFFSETFROM:-0500
TZOFFSETTO:-0400
TZNAME:EDT
DTSTART:20240310T070000
END:DAYLIGHT
BEGIN:STANDARD
TZOFFSETFROM:-0400
TZOFFSETTO:-0500
TZNAME:EST
DTSTART:20241103T060000
END:STANDARD
BEGIN:DAYLIGHT
TZOFFSETFROM:-0500
TZOFFSETTO:-0400
TZNAME:EDT
DTSTART:20250309T070000
END:DAYLIGHT
BEGIN:STANDARD
TZOFFSETFROM:-0400
TZOFFSETTO:-0500
TZNAME:EST
DTSTART:20251102T060000
END:STANDARD
BEGIN:DAYLIGHT
TZOFFSETFROM:-0500
TZOFFSETTO:-0400
TZNAME:EDT
DTSTART:20260308T070000
END:DAYLIGHT
BEGIN:STANDARD
TZOFFSETFROM:-0400
TZOFFSETTO:-0500
TZNAME:EST
DTSTART:20261101T060000
END:STANDARD
END:VTIMEZONE
BEGIN:VEVENT
DTSTART;TZID=America/New_York:20250612T000000
DTEND;TZID=America/New_York:20250612T235959
DTSTAMP:20260422T140640
CREATED:20250331T154737Z
LAST-MODIFIED:20250331T154739Z
UID:10006380-1749686400-1749772799@www.calcagni.com
SUMMARY:Allied Printing Services Charitable Foundation’s 17th Annual Golf Tournament
DESCRIPTION:Hosted at the Tunxis Country Club\, the tournament proceeds go to benefit the Connecticut Children’s medical Center\, Cushing Academy\, Fidelco Guide Dog Foundation\, and the Memorial Sloan Kettering Cancer Center in New York
URL:https://www.calcagni.com/event/allied-printing-services-charitable-foundations-17th-annual-golf-tournament/
CATEGORIES:external event
END:VEVENT
END:VCALENDAR