BEGIN:VCALENDAR
VERSION:2.0
PRODID:-//Calcagni Real Estate - ECPv6.15.18//NONSGML v1.0//EN
CALSCALE:GREGORIAN
METHOD:PUBLISH
X-ORIGINAL-URL:https://www.calcagni.com
X-WR-CALDESC:Events for Calcagni Real Estate
REFRESH-INTERVAL;VALUE=DURATION:PT1H
X-Robots-Tag:noindex
X-PUBLISHED-TTL:PT1H
BEGIN:VTIMEZONE
TZID:America/New_York
BEGIN:DAYLIGHT
TZOFFSETFROM:-0500
TZOFFSETTO:-0400
TZNAME:EDT
DTSTART:20240310T070000
END:DAYLIGHT
BEGIN:STANDARD
TZOFFSETFROM:-0400
TZOFFSETTO:-0500
TZNAME:EST
DTSTART:20241103T060000
END:STANDARD
BEGIN:DAYLIGHT
TZOFFSETFROM:-0500
TZOFFSETTO:-0400
TZNAME:EDT
DTSTART:20250309T070000
END:DAYLIGHT
BEGIN:STANDARD
TZOFFSETFROM:-0400
TZOFFSETTO:-0500
TZNAME:EST
DTSTART:20251102T060000
END:STANDARD
BEGIN:DAYLIGHT
TZOFFSETFROM:-0500
TZOFFSETTO:-0400
TZNAME:EDT
DTSTART:20260308T070000
END:DAYLIGHT
BEGIN:STANDARD
TZOFFSETFROM:-0400
TZOFFSETTO:-0500
TZNAME:EST
DTSTART:20261101T060000
END:STANDARD
END:VTIMEZONE
BEGIN:VEVENT
DTSTART;TZID=America/New_York:20250130T080000
DTEND;TZID=America/New_York:20250130T093000
DTSTAMP:20260422T214019
CREATED:20250120T163007Z
LAST-MODIFIED:20250120T163007Z
UID:10006369-1738224000-1738229400@www.calcagni.com
SUMMARY:2025 Regional Legislative Roundtable Breakfast
DESCRIPTION:2025 Regional Legislative Roundtable Breakfast at Fox Osteria\, 34 River Rd Meriden – representatives from Meriden\, Cheshire\, Berlin and Wallingford https://cca.cheshirechamber.org/EvtListing.aspx?dbid2=CTCHE&evtid=83373&class=E cost is $30
URL:https://www.calcagni.com/event/2025-regional-legislative-roundtable-breakfast/
CATEGORIES:external event
END:VEVENT
BEGIN:VEVENT
DTSTART;TZID=America/New_York:20250130T114500
DTEND;TZID=America/New_York:20250130T130000
DTSTAMP:20260422T214020
CREATED:20250122T155921Z
LAST-MODIFIED:20250122T155921Z
UID:10006374-1738237500-1738242000@www.calcagni.com
SUMMARY:Lunch and Learn - Serving Buyers with RPR Mobile
DESCRIPTION:Join Lorrie Maiorano on Thursday\, January 30th in the Wallingford training room from 11:45-1pm. She will be covering the RPR Mobile app and how to serve buyers utilising it!
URL:https://www.calcagni.com/event/lunch-and-learn-serving-buyers-with-rpr-mobile/
LOCATION:36 North Main Street Wallingford\, 36 North Main Street\, Wallingford\, CT\, 06492
CATEGORIES:internal event
ORGANIZER;CN="Calcagni Real Estate":MAILTO:customerservice@calcagni.com
END:VEVENT
BEGIN:VEVENT
DTSTART;TZID=America/New_York:20250130T180000
DTEND;TZID=America/New_York:20250130T200000
DTSTAMP:20260422T214020
CREATED:20250108T155234Z
LAST-MODIFIED:20250108T155234Z
UID:10006365-1738260000-1738267200@www.calcagni.com
SUMMARY:Midstate Installation Dinner
DESCRIPTION:January 30\, 2025 Midstate installation event 6pm Aqua Turf
URL:https://www.calcagni.com/event/midstate-installation-dinner-2/
LOCATION:Aqua Turf\, 556 Mulberry St\, Plantsville\, Connecticut\, 06479\, United States
CATEGORIES:external event
END:VEVENT
BEGIN:VEVENT
DTSTART;TZID=America/New_York:20250130T180000
DTEND;TZID=America/New_York:20250130T200000
DTSTAMP:20260422T214020
CREATED:20250108T155340Z
LAST-MODIFIED:20250108T155340Z
UID:10006366-1738260000-1738267200@www.calcagni.com
SUMMARY:HBRA Annual Awards Night
DESCRIPTION:January 30\, 2025 HBRA Annual Awards Night – 6pm Bristol Events Center
URL:https://www.calcagni.com/event/hbra-annual-awards-night/
CATEGORIES:external event
END:VEVENT
END:VCALENDAR