BEGIN:VCALENDAR
VERSION:2.0
PRODID:-//Calcagni Real Estate - ECPv6.15.18//NONSGML v1.0//EN
CALSCALE:GREGORIAN
METHOD:PUBLISH
X-WR-CALNAME:Calcagni Real Estate
X-ORIGINAL-URL:https://www.calcagni.com
X-WR-CALDESC:Events for Calcagni Real Estate
REFRESH-INTERVAL;VALUE=DURATION:PT1H
X-Robots-Tag:noindex
X-PUBLISHED-TTL:PT1H
BEGIN:VTIMEZONE
TZID:America/New_York
BEGIN:DAYLIGHT
TZOFFSETFROM:-0500
TZOFFSETTO:-0400
TZNAME:EDT
DTSTART:20240310T070000
END:DAYLIGHT
BEGIN:STANDARD
TZOFFSETFROM:-0400
TZOFFSETTO:-0500
TZNAME:EST
DTSTART:20241103T060000
END:STANDARD
BEGIN:DAYLIGHT
TZOFFSETFROM:-0500
TZOFFSETTO:-0400
TZNAME:EDT
DTSTART:20250309T070000
END:DAYLIGHT
BEGIN:STANDARD
TZOFFSETFROM:-0400
TZOFFSETTO:-0500
TZNAME:EST
DTSTART:20251102T060000
END:STANDARD
BEGIN:DAYLIGHT
TZOFFSETFROM:-0500
TZOFFSETTO:-0400
TZNAME:EDT
DTSTART:20260308T070000
END:DAYLIGHT
BEGIN:STANDARD
TZOFFSETFROM:-0400
TZOFFSETTO:-0500
TZNAME:EST
DTSTART:20261101T060000
END:STANDARD
END:VTIMEZONE
BEGIN:VEVENT
DTSTART;TZID=America/New_York:20250123T120000
DTEND;TZID=America/New_York:20250123T133000
DTSTAMP:20260422T234040
CREATED:20250108T154841Z
LAST-MODIFIED:20250108T154841Z
UID:10006362-1737633600-1737639000@www.calcagni.com
SUMMARY:"What is Next in 2025? CRE Local Forecast Webinar"
DESCRIPTION:January 23rd 12-1:30 – “What is Next in 2025? CRE Local Forecast Webinar” – For those involved in commercial transactions\, don’t miss the upcoming virtual presentation on January 23rd\, from 12:00 PM to 1:30 PM. This event will provide insights on what’s ahead for the commercial real estate industry in 2025.  https://ctccim.com/meetinginfo.php?id=50&ts=1732728705
URL:https://www.calcagni.com/event/what-is-next-in-2025-cre-local-forecast-webinar/
CATEGORIES:external event
END:VEVENT
BEGIN:VEVENT
DTSTART;TZID=America/New_York:20250123T180000
DTEND;TZID=America/New_York:20250123T193000
DTSTAMP:20260422T234040
CREATED:20250108T154948Z
LAST-MODIFIED:20250108T154948Z
UID:10006363-1737655200-1737660600@www.calcagni.com
SUMMARY:Mortgage 101 - Mandy Miller
DESCRIPTION:Jan 23rd 6-7:30 – Mortgage 101 – 1st of 5 classes Realtor Workshop – Mandy Miller First World Mortgage –location Cheshire Chamber of Commerce 195 S Main St Ste 2 Cheshire\nRegistration – https://sites.totalexpert.net/event-registration/mortgage-financing-101—realtor-training-22196731
URL:https://www.calcagni.com/event/mortgage-101-mandy-miller/
CATEGORIES:external event
END:VEVENT
END:VCALENDAR