BEGIN:VCALENDAR
VERSION:2.0
PRODID:-//Calcagni Real Estate - ECPv6.15.18//NONSGML v1.0//EN
CALSCALE:GREGORIAN
METHOD:PUBLISH
X-ORIGINAL-URL:https://www.calcagni.com
X-WR-CALDESC:Events for Calcagni Real Estate
REFRESH-INTERVAL;VALUE=DURATION:PT1H
X-Robots-Tag:noindex
X-PUBLISHED-TTL:PT1H
BEGIN:VTIMEZONE
TZID:America/New_York
BEGIN:DAYLIGHT
TZOFFSETFROM:-0500
TZOFFSETTO:-0400
TZNAME:EDT
DTSTART:20230312T070000
END:DAYLIGHT
BEGIN:STANDARD
TZOFFSETFROM:-0400
TZOFFSETTO:-0500
TZNAME:EST
DTSTART:20231105T060000
END:STANDARD
BEGIN:DAYLIGHT
TZOFFSETFROM:-0500
TZOFFSETTO:-0400
TZNAME:EDT
DTSTART:20240310T070000
END:DAYLIGHT
BEGIN:STANDARD
TZOFFSETFROM:-0400
TZOFFSETTO:-0500
TZNAME:EST
DTSTART:20241103T060000
END:STANDARD
BEGIN:DAYLIGHT
TZOFFSETFROM:-0500
TZOFFSETTO:-0400
TZNAME:EDT
DTSTART:20250309T070000
END:DAYLIGHT
BEGIN:STANDARD
TZOFFSETFROM:-0400
TZOFFSETTO:-0500
TZNAME:EST
DTSTART:20251102T060000
END:STANDARD
END:VTIMEZONE
BEGIN:VEVENT
DTSTART;TZID=America/New_York:20241206T170000
DTEND;TZID=America/New_York:20241206T210000
DTSTAMP:20260423T032923
CREATED:20241028T152600Z
LAST-MODIFIED:20241028T152738Z
UID:10006356-1733504400-1733518800@www.calcagni.com
SUMMARY:Wallingford Holiday Stroll & Festival of Trees
DESCRIPTION:Shop and enjoy retailers & restaurants along Center St\, Quinnipiac St and Simpson Court. Down at the Gazebo will be a bonfire as well as many food trucks. \n\n\n\nFor a list of participating locations\, check out Wallingford Center Inc’s website.
URL:https://www.calcagni.com/event/wallingford-holiday-stroll-festival-of-trees/
CATEGORIES:external event
ORGANIZER;CN="Wallingford Center Inc":MAILTO:info@wallingfordcenterinc.com
END:VEVENT
END:VCALENDAR